BEGIN:VCALENDAR
VERSION:2.0
PRODID:-//Busy Bees Pottery &amp; Arts Studio Springfield - ECPv6.1.2.2//NONSGML v1.0//EN
CALSCALE:GREGORIAN
METHOD:PUBLISH
X-WR-CALNAME:Busy Bees Pottery &amp; Arts Studio Springfield
X-ORIGINAL-URL:https://springfield.busybeesart.com
X-WR-CALDESC:Events for Busy Bees Pottery &amp; Arts Studio Springfield
REFRESH-INTERVAL;VALUE=DURATION:PT1H
X-Robots-Tag:noindex
X-PUBLISHED-TTL:PT1H
BEGIN:VTIMEZONE
TZID:America/Halifax
BEGIN:DAYLIGHT
TZOFFSETFROM:-0400
TZOFFSETTO:-0300
TZNAME:ADT
DTSTART:20230312T060000
END:DAYLIGHT
BEGIN:STANDARD
TZOFFSETFROM:-0300
TZOFFSETTO:-0400
TZNAME:AST
DTSTART:20231105T050000
END:STANDARD
END:VTIMEZONE
BEGIN:VEVENT
DTSTART;TZID=America/Halifax:20230211T190000
DTEND;TZID=America/Halifax:20230211T210000
DTSTAMP:20260420T085903
CREATED:20230111T193326Z
LAST-MODIFIED:20230208T162701Z
UID:197489-1676142000-1676149200@springfield.busybeesart.com
SUMMARY:Adult BYOB: Paint & Bingo
DESCRIPTION:CELEBRATE VALENTINE’S DAY WITH US! Have a date night\, or a “single ladies” night. Paint pottery or wine glasses and play some Bingo! Prizes will be given out to winners. (Valentine’s day themed stencils as well as normal adult stencils will be available) \nThis is a BYOB event\, feel free to bring snacks and drinks (remember to bring paper products and cups for whatever you bring). This is an “adults only” pottery night. $25 registration fee goes towards the cost of your project the night of. Project cost depends on what you choose that night. If you choose a piece over $25 the difference is owed that night. If you choose a piece under $25 no change is given.
URL:https://springfield.busybeesart.com/event/adult-byob-paint-bingo-5/
LOCATION:Busy Bees Pottery & Arts Studio\, 459 Baltimore Pike\, Springfield\, PA\, 19064\, United States
CATEGORIES:Adults Only
ATTACH;FMTTYPE=image/jpeg:https://springfield.busybeesart.com/wp-content/uploads/2023/01/Copy-of-Site-Adult-WS-Events-2.jpg
END:VEVENT
END:VCALENDAR