BEGIN:VCALENDAR
VERSION:2.0
PRODID:-//Busy Bees Pottery &amp; Arts Studio Springfield - ECPv6.1.2.2//NONSGML v1.0//EN
CALSCALE:GREGORIAN
METHOD:PUBLISH
X-WR-CALNAME:Busy Bees Pottery &amp; Arts Studio Springfield
X-ORIGINAL-URL:https://springfield.busybeesart.com
X-WR-CALDESC:Events for Busy Bees Pottery &amp; Arts Studio Springfield
REFRESH-INTERVAL;VALUE=DURATION:PT1H
X-Robots-Tag:noindex
X-PUBLISHED-TTL:PT1H
BEGIN:VTIMEZONE
TZID:America/Halifax
BEGIN:DAYLIGHT
TZOFFSETFROM:-0400
TZOFFSETTO:-0300
TZNAME:ADT
DTSTART:20210314T060000
END:DAYLIGHT
BEGIN:STANDARD
TZOFFSETFROM:-0300
TZOFFSETTO:-0400
TZNAME:AST
DTSTART:20211107T050000
END:STANDARD
END:VTIMEZONE
BEGIN:VEVENT
DTSTART;TZID=America/Halifax:20211120T190000
DTEND;TZID=America/Halifax:20211120T213000
DTSTAMP:20260419T171311
CREATED:20210924T214624Z
LAST-MODIFIED:20210924T214624Z
UID:193923-1637434800-1637443800@springfield.busybeesart.com
SUMMARY:Adult BYOB Pottery: Naughty or Nice Event
DESCRIPTION:It’s all fun and games until someone ends up on Santa’s Naughty List! Adults join us for a relaxing night out away from the kids. Sip drinks and paint some pottery with us. We will have “Potty Mouth” themed projects for our “Naughty” guests and Christmas themed projects for our “Nice” guests. So tell us\, will you be on the Nice List or the Naughty List this year? \nThis is a BYOB event so feel free to bring drinks and snacks. *Remember cups and paper products for what you bring. $20 registration fee goes towards the cost of your project the night of. (If you choose a project less than $20 no change is given.)
URL:https://springfield.busybeesart.com/event/adult-byob-pottery-naughty-or-nice-event/
LOCATION:Busy Bees Pottery & Arts Studio\, 459 Baltimore Pike\, Springfield\, PA\, 19064\, United States
CATEGORIES:Adults Only
ATTACH;FMTTYPE=image/jpeg:https://springfield.busybeesart.com/wp-content/uploads/2021/09/Site-Adult-WS-Events-31.jpg
END:VEVENT
END:VCALENDAR