BEGIN:VCALENDAR
VERSION:2.0
PRODID:-//Busy Bees Pottery &amp; Arts Studio Springfield - ECPv6.1.2.2//NONSGML v1.0//EN
CALSCALE:GREGORIAN
METHOD:PUBLISH
X-WR-CALNAME:Busy Bees Pottery &amp; Arts Studio Springfield
X-ORIGINAL-URL:https://springfield.busybeesart.com
X-WR-CALDESC:Events for Busy Bees Pottery &amp; Arts Studio Springfield
REFRESH-INTERVAL;VALUE=DURATION:PT1H
X-Robots-Tag:noindex
X-PUBLISHED-TTL:PT1H
BEGIN:VTIMEZONE
TZID:America/Halifax
BEGIN:DAYLIGHT
TZOFFSETFROM:-0400
TZOFFSETTO:-0300
TZNAME:ADT
DTSTART:20210314T060000
END:DAYLIGHT
BEGIN:STANDARD
TZOFFSETFROM:-0300
TZOFFSETTO:-0400
TZNAME:AST
DTSTART:20211107T050000
END:STANDARD
END:VTIMEZONE
BEGIN:VEVENT
DTSTART;TZID=America/Halifax:20210626T183000
DTEND;TZID=America/Halifax:20210626T210000
DTSTAMP:20260420T165914
CREATED:20210508T153914Z
LAST-MODIFIED:20210508T153914Z
UID:193174-1624732200-1624741200@springfield.busybeesart.com
SUMMARY:Adult BYOB: Salty Beach Night
DESCRIPTION:Girls night out? Date night with the hubby? Whichever it is\, come out to Busy Bees for this “Salty Beach” pottery and wineglass painting night. Join us in painting words only fit for the dirty mouth of a sailor! We will have plenty of fun and silly projects to choose from that are in the theme of bad words and inappropriate sayings. These projects are also all summer and beach themed projects\, for the inner salty beach in all of us. $10 registration fee goes towards the cost of your project the night of. Project cost depends on what you choose that night. Projects start at $20 (pictures of samples coming soon…) \nNot really into the bad word theme? That’s okay! We will still have plenty of other pottery that you can choose from and paint however you’d like! Our staff will be there to help. \nThis is a BYOB event\, feel free to bring snacks and drinks (remember to bring paper products and cups for whatever you bring).
URL:https://springfield.busybeesart.com/event/adult-byob-salty-beach-night/
LOCATION:Busy Bees Pottery & Arts Studio\, 459 Baltimore Pike\, Springfield\, PA\, 19064\, United States
CATEGORIES:Adults Only
ATTACH;FMTTYPE=image/jpeg:https://springfield.busybeesart.com/wp-content/uploads/2021/05/Site-Adult-WS-Events-20.jpg
END:VEVENT
END:VCALENDAR