BEGIN:VCALENDAR
VERSION:2.0
PRODID:-//Busy Bees Pottery &amp; Arts Studio Springfield - ECPv6.1.2.2//NONSGML v1.0//EN
CALSCALE:GREGORIAN
METHOD:PUBLISH
X-WR-CALNAME:Busy Bees Pottery &amp; Arts Studio Springfield
X-ORIGINAL-URL:https://springfield.busybeesart.com
X-WR-CALDESC:Events for Busy Bees Pottery &amp; Arts Studio Springfield
REFRESH-INTERVAL;VALUE=DURATION:PT1H
X-Robots-Tag:noindex
X-PUBLISHED-TTL:PT1H
BEGIN:VTIMEZONE
TZID:America/Halifax
BEGIN:DAYLIGHT
TZOFFSETFROM:-0400
TZOFFSETTO:-0300
TZNAME:ADT
DTSTART:20210314T060000
END:DAYLIGHT
BEGIN:STANDARD
TZOFFSETFROM:-0300
TZOFFSETTO:-0400
TZNAME:AST
DTSTART:20211107T050000
END:STANDARD
END:VTIMEZONE
BEGIN:VEVENT
DTSTART;TZID=America/Halifax:20211218T190000
DTEND;TZID=America/Halifax:20211218T213000
DTSTAMP:20260420T151640
CREATED:20211022T192938Z
LAST-MODIFIED:20211022T192938Z
UID:194181-1639854000-1639863000@springfield.busybeesart.com
SUMMARY:Adult BYOB: Tipsy Elf Wineglass Event
DESCRIPTION:Adulting is hard\, take a break and come out to Busy Bees to relax and paint some wineglasses & beer steins. These will be perfect to use for the upcoming Holidays! (Christmas\, New year’s). We will have Holiday themed potty-mouth stencils for your inner Grinch and Naughty List Regulars. So plan your DATE NIGHT or GIRLS NIGHT for Saturday evening (Dec. 18th). \nNot really a scrooge? More of a saint? Well you don’t have to paint naughty designs\, come on out anyway and paint whatever the $@#% you want on some wineglasses\, our staff will help you! \nThis is a BYOB event\, feel free to bring snacks and drinks to enjoy while painting. Remember to bring cups and paper products that you may need for whatever you bring. $25 registration fee gets you one wineglass or one beer stein (We also have regular drinking glasses). Feel free to purchase an additional glass that night if you wish to paint two! All attendees must register.
URL:https://springfield.busybeesart.com/event/adult-byob-tipsy-elf-wineglass-event/
LOCATION:Busy Bees Pottery & Arts Studio\, 459 Baltimore Pike\, Springfield\, PA\, 19064\, United States
CATEGORIES:Adults Only
ATTACH;FMTTYPE=image/jpeg:https://springfield.busybeesart.com/wp-content/uploads/2021/10/Site-Adult-WS-Events-33.jpg
END:VEVENT
END:VCALENDAR