BEGIN:VCALENDAR
VERSION:2.0
PRODID:-//Busy Bees Pottery &amp; Arts Studio Springfield - ECPv6.1.2.2//NONSGML v1.0//EN
CALSCALE:GREGORIAN
METHOD:PUBLISH
X-WR-CALNAME:Busy Bees Pottery &amp; Arts Studio Springfield
X-ORIGINAL-URL:https://springfield.busybeesart.com
X-WR-CALDESC:Events for Busy Bees Pottery &amp; Arts Studio Springfield
REFRESH-INTERVAL;VALUE=DURATION:PT1H
X-Robots-Tag:noindex
X-PUBLISHED-TTL:PT1H
BEGIN:VTIMEZONE
TZID:America/Halifax
BEGIN:DAYLIGHT
TZOFFSETFROM:-0400
TZOFFSETTO:-0300
TZNAME:ADT
DTSTART:20220313T060000
END:DAYLIGHT
BEGIN:STANDARD
TZOFFSETFROM:-0300
TZOFFSETTO:-0400
TZNAME:AST
DTSTART:20221106T050000
END:STANDARD
END:VTIMEZONE
BEGIN:VEVENT
DTSTART;TZID=America/Halifax:20221126T163000
DTEND;TZID=America/Halifax:20221126T180000
DTSTAMP:20260423T083023
CREATED:20221025T200207Z
LAST-MODIFIED:20221026T195956Z
UID:196946-1669480200-1669485600@springfield.busybeesart.com
SUMMARY:All Ages: Clay Christmas Tree
DESCRIPTION:Adults and kids ages 7 and older are welcome to come out and sculpt your own Christmas Tree out of clay with one of our instructors! (Tree’s are roughly 6″ high depending on how you sculpt it) \nClay will be ready for pick up/or to paint 7-14 days after event. Once painted\, your piece will be re-fired in our kiln and ready for pick up 7 days later. \n*Kids must be age 7 or older \n*ADULTS ALLOWED TO BYOB / We will just separate you from any groups with kids*
URL:https://springfield.busybeesart.com/event/all-ages-clay-christmas-tree/
LOCATION:Busy Bees Pottery & Arts Studio\, 459 Baltimore Pike\, Springfield\, PA\, 19064\, United States
CATEGORIES:All Ages Clay
ATTACH;FMTTYPE=image/jpeg:https://springfield.busybeesart.com/wp-content/uploads/2022/10/All-Ages-Site-SPRINGFIELD-47.jpg
END:VEVENT
END:VCALENDAR