BEGIN:VCALENDAR
VERSION:2.0
PRODID:-//Busy Bees Pottery &amp; Arts Studio Springfield - ECPv6.1.2.2//NONSGML v1.0//EN
CALSCALE:GREGORIAN
METHOD:PUBLISH
X-WR-CALNAME:Busy Bees Pottery &amp; Arts Studio Springfield
X-ORIGINAL-URL:https://springfield.busybeesart.com
X-WR-CALDESC:Events for Busy Bees Pottery &amp; Arts Studio Springfield
REFRESH-INTERVAL;VALUE=DURATION:PT1H
X-Robots-Tag:noindex
X-PUBLISHED-TTL:PT1H
BEGIN:VTIMEZONE
TZID:America/Halifax
BEGIN:DAYLIGHT
TZOFFSETFROM:-0400
TZOFFSETTO:-0300
TZNAME:ADT
DTSTART:20260308T060000
END:DAYLIGHT
BEGIN:STANDARD
TZOFFSETFROM:-0300
TZOFFSETTO:-0400
TZNAME:AST
DTSTART:20261101T050000
END:STANDARD
END:VTIMEZONE
BEGIN:VEVENT
DTSTART;TZID=America/Halifax:20260117T190000
DTEND;TZID=America/Halifax:20260117T210000
DTSTAMP:20260420T192400
CREATED:20251217T031052Z
LAST-MODIFIED:20251231T190258Z
UID:203262-1768676400-1768683600@springfield.busybeesart.com
SUMMARY:January's Adult BYOB Night
DESCRIPTION:Make it a girls night or a date night. Grab your favorite drinks and snacks and come out to Busy Bees for a fun night of pottery painting. \nThis is an “adults (18+) only” pottery night. Adults 21+ may BYOB. $30 registration fee goes towards the cost of your project the night of (Please read terms fully). Project cost depends on what you choose that night. Pottery available for pick up 10 days after event.
URL:https://springfield.busybeesart.com/event/januarys-adult-byob-night/
LOCATION:Busy Bees Pottery & Arts Studio\, 459 Baltimore Pike\, Springfield\, PA\, 19064\, United States
CATEGORIES:Adults Only
ATTACH;FMTTYPE=image/jpeg:https://springfield.busybeesart.com/wp-content/uploads/2025/12/Fall.Giveaway-21.jpg
END:VEVENT
END:VCALENDAR