BEGIN:VCALENDAR
VERSION:2.0
PRODID:-//Busy Bees Pottery &amp; Arts Studio Springfield - ECPv6.1.2.2//NONSGML v1.0//EN
CALSCALE:GREGORIAN
METHOD:PUBLISH
X-WR-CALNAME:Busy Bees Pottery &amp; Arts Studio Springfield
X-ORIGINAL-URL:https://springfield.busybeesart.com
X-WR-CALDESC:Events for Busy Bees Pottery &amp; Arts Studio Springfield
REFRESH-INTERVAL;VALUE=DURATION:PT1H
X-Robots-Tag:noindex
X-PUBLISHED-TTL:PT1H
BEGIN:VTIMEZONE
TZID:America/Halifax
BEGIN:DAYLIGHT
TZOFFSETFROM:-0400
TZOFFSETTO:-0300
TZNAME:ADT
DTSTART:20240310T060000
END:DAYLIGHT
BEGIN:STANDARD
TZOFFSETFROM:-0300
TZOFFSETTO:-0400
TZNAME:AST
DTSTART:20241103T050000
END:STANDARD
END:VTIMEZONE
BEGIN:VEVENT
DTSTART;TZID=America/Halifax:20240308T180000
DTEND;TZID=America/Halifax:20240308T200000
DTSTAMP:20260421T013214
CREATED:20240203T220853Z
LAST-MODIFIED:20240203T220853Z
UID:199977-1709920800-1709928000@springfield.busybeesart.com
SUMMARY:Kids Night Out: "Chillin' with my Peeps" Mug
DESCRIPTION:Kids join us for a fun night out! We will be painting this cool Peeps mug! Afterwards we will play bingo where you can win fun prizes! Each child attending will also be sent home with a small goodie bag. \n*This is a parent drop off workshop. Parents drop off their children and come back to pick them up once the workshop is over at 8pm. Project will be available for pick up 10 days after the workshop.
URL:https://springfield.busybeesart.com/event/kids-night-out-chillin-with-my-peeps-mug/
LOCATION:Busy Bees Pottery & Arts Studio\, 459 Baltimore Pike\, Springfield\, PA\, 19064\, United States
CATEGORIES:Kids Night Out
ATTACH;FMTTYPE=image/jpeg:https://springfield.busybeesart.com/wp-content/uploads/2024/02/Site-Kids-Night-Out-38.jpg
END:VEVENT
END:VCALENDAR