BEGIN:VCALENDAR
VERSION:2.0
PRODID:-//Busy Bees Pottery &amp; Arts Studio Springfield - ECPv6.1.2.2//NONSGML v1.0//EN
CALSCALE:GREGORIAN
METHOD:PUBLISH
X-WR-CALNAME:Busy Bees Pottery &amp; Arts Studio Springfield
X-ORIGINAL-URL:https://springfield.busybeesart.com
X-WR-CALDESC:Events for Busy Bees Pottery &amp; Arts Studio Springfield
REFRESH-INTERVAL;VALUE=DURATION:PT1H
X-Robots-Tag:noindex
X-PUBLISHED-TTL:PT1H
BEGIN:VTIMEZONE
TZID:America/Halifax
BEGIN:DAYLIGHT
TZOFFSETFROM:-0400
TZOFFSETTO:-0300
TZNAME:ADT
DTSTART:20230312T060000
END:DAYLIGHT
BEGIN:STANDARD
TZOFFSETFROM:-0300
TZOFFSETTO:-0400
TZNAME:AST
DTSTART:20231105T050000
END:STANDARD
END:VTIMEZONE
BEGIN:VEVENT
DTSTART;TZID=America/Halifax:20230616T180000
DTEND;TZID=America/Halifax:20230616T200000
DTSTAMP:20260425T111631
CREATED:20230412T193319Z
LAST-MODIFIED:20230414T163303Z
UID:198218-1686938400-1686945600@springfield.busybeesart.com
SUMMARY:Kids Paint & Bingo: Turtle Beach Canvas
DESCRIPTION:Kids join us for a fun night out! We will be painting this turtle beach canvas just in time for Summer! Afterwards we will play bingo where you can win fun prizes! Each child attending will also be sent home with a small goodie bag. \n*This is a parent drop off workshop. Parents drop off their children and come back to pick them up once the workshop is over at 8pm. Project will be taken home at conclusion of workshop. *Canvas paint stains clothing. Please dress your child appropriately.
URL:https://springfield.busybeesart.com/event/kids-paint-bingo-turtle-beach-canvas/
LOCATION:Busy Bees Pottery & Arts Studio\, 459 Baltimore Pike\, Springfield\, PA\, 19064\, United States
CATEGORIES:Kids Night Out
ATTACH;FMTTYPE=image/jpeg:https://springfield.busybeesart.com/wp-content/uploads/2023/04/Site-Kids-Night-Out-23.jpg
END:VEVENT
END:VCALENDAR