BEGIN:VCALENDAR
VERSION:2.0
PRODID:-//Busy Bees Pottery &amp; Arts Studio Springfield - ECPv6.1.2.2//NONSGML v1.0//EN
CALSCALE:GREGORIAN
METHOD:PUBLISH
X-WR-CALNAME:Busy Bees Pottery &amp; Arts Studio Springfield
X-ORIGINAL-URL:https://springfield.busybeesart.com
X-WR-CALDESC:Events for Busy Bees Pottery &amp; Arts Studio Springfield
REFRESH-INTERVAL;VALUE=DURATION:PT1H
X-Robots-Tag:noindex
X-PUBLISHED-TTL:PT1H
BEGIN:VTIMEZONE
TZID:America/Halifax
BEGIN:DAYLIGHT
TZOFFSETFROM:-0400
TZOFFSETTO:-0300
TZNAME:ADT
DTSTART:20220313T060000
END:DAYLIGHT
BEGIN:STANDARD
TZOFFSETFROM:-0300
TZOFFSETTO:-0400
TZNAME:AST
DTSTART:20221106T050000
END:STANDARD
END:VTIMEZONE
BEGIN:VEVENT
DTSTART;TZID=America/Halifax:20220128T180000
DTEND;TZID=America/Halifax:20220128T200000
DTSTAMP:20260421T232715
CREATED:20211028T231433Z
LAST-MODIFIED:20211028T231433Z
UID:194233-1643392800-1643400000@springfield.busybeesart.com
SUMMARY:Paint & Bingo: Cup of Love plate
DESCRIPTION:Kids join us for a fun night out! We will be painting this sweet “cup of love” snowman plate! Perfect addition to Mom and Dad’s winter or valentine’s day décor. Afterwards we will play bingo where you can win fun prizes! Each child attending will also be sent home with a small goodie bag. \n*Children must wear their masks the entire event\, their goodies bags will be given to them at the end of the workshop to take home* \n*This is a parent drop off workshop. Parents drop off their children and come back to pick them up once the workshop is over at 8pm. Project will be available for pick up 7 days after the workshop.
URL:https://springfield.busybeesart.com/event/paint-bingo-cup-of-love-plate/
LOCATION:Busy Bees Pottery & Arts Studio\, 459 Baltimore Pike\, Springfield\, PA\, 19064\, United States
CATEGORIES:Kids Night Out
ATTACH;FMTTYPE=image/jpeg:https://springfield.busybeesart.com/wp-content/uploads/2021/10/Site-Kids-Night-Out-33.jpg
END:VEVENT
END:VCALENDAR