BEGIN:VCALENDAR
VERSION:2.0
PRODID:-//Busy Bees Pottery &amp; Arts Studio Springfield - ECPv6.1.2.2//NONSGML v1.0//EN
CALSCALE:GREGORIAN
METHOD:PUBLISH
X-WR-CALNAME:Busy Bees Pottery &amp; Arts Studio Springfield
X-ORIGINAL-URL:https://springfield.busybeesart.com
X-WR-CALDESC:Events for Busy Bees Pottery &amp; Arts Studio Springfield
REFRESH-INTERVAL;VALUE=DURATION:PT1H
X-Robots-Tag:noindex
X-PUBLISHED-TTL:PT1H
BEGIN:VTIMEZONE
TZID:America/Halifax
BEGIN:DAYLIGHT
TZOFFSETFROM:-0400
TZOFFSETTO:-0300
TZNAME:ADT
DTSTART:20230312T060000
END:DAYLIGHT
BEGIN:STANDARD
TZOFFSETFROM:-0300
TZOFFSETTO:-0400
TZNAME:AST
DTSTART:20231105T050000
END:STANDARD
END:VTIMEZONE
BEGIN:VEVENT
DTSTART;TZID=America/Halifax:20230204T100000
DTEND;TZID=America/Halifax:20230204T110000
DTSTAMP:20260422T235209
CREATED:20230111T191959Z
LAST-MODIFIED:20230111T192148Z
UID:197484-1675504800-1675508400@springfield.busybeesart.com
SUMMARY:Paint & Storytime: Clay Fingerprint Hearts
DESCRIPTION:Toddlers and Kiddies ages 18 months – 5 years old are welcome to come out and create this cloud with fingerprint heart raindrops out of clay. First we will sculpt and paint then we will have Storytime! \nProject will be available for pick up 7-14 days after event. Clay and pottery paint is non-toxic and washes out of clothing with just water. *For toddlers we recommend at least one adult per child to help with craft.
URL:https://springfield.busybeesart.com/event/paint-storytime-clay-fingerprint-hearts/
LOCATION:Busy Bees Pottery & Arts Studio\, 459 Baltimore Pike\, Springfield\, PA\, 19064\, United States
CATEGORIES:Toddlers and Kiddies
ATTACH;FMTTYPE=image/jpeg:https://springfield.busybeesart.com/wp-content/uploads/2023/01/Site-LITTLE-BEES-SPRINGFIELD-2.jpg
END:VEVENT
END:VCALENDAR