BEGIN:VCALENDAR
VERSION:2.0
PRODID:-//Busy Bees Pottery &amp; Arts Studio Springfield - ECPv6.1.2.2//NONSGML v1.0//EN
CALSCALE:GREGORIAN
METHOD:PUBLISH
X-WR-CALNAME:Busy Bees Pottery &amp; Arts Studio Springfield
X-ORIGINAL-URL:https://springfield.busybeesart.com
X-WR-CALDESC:Events for Busy Bees Pottery &amp; Arts Studio Springfield
REFRESH-INTERVAL;VALUE=DURATION:PT1H
X-Robots-Tag:noindex
X-PUBLISHED-TTL:PT1H
BEGIN:VTIMEZONE
TZID:America/Halifax
BEGIN:DAYLIGHT
TZOFFSETFROM:-0400
TZOFFSETTO:-0300
TZNAME:ADT
DTSTART:20210314T060000
END:DAYLIGHT
BEGIN:STANDARD
TZOFFSETFROM:-0300
TZOFFSETTO:-0400
TZNAME:AST
DTSTART:20211107T050000
END:STANDARD
END:VTIMEZONE
BEGIN:VEVENT
DTSTART;TZID=America/Halifax:20211204T100000
DTEND;TZID=America/Halifax:20211204T110000
DTSTAMP:20260422T024724
CREATED:20211021T212029Z
LAST-MODIFIED:20211119T195937Z
UID:194166-1638612000-1638615600@springfield.busybeesart.com
SUMMARY:Paint & Storytime: Holiday Handprint Plate
DESCRIPTION:LITTLE BEES! Toddlers and Kiddies Ages 18 months – 5 years old are welcome to come out and create one of these fun holiday plates. Choose a festive reindeer or a cute Grinch! First we will paint\, then we will have story time. \nThere must be at least one parent/guardian per child. Project will be available for pick up 7 days after event. *This paint is non-toxic and washes right out of clothing with just water.
URL:https://springfield.busybeesart.com/event/paint-storytime-holiday-handprint-plate/
LOCATION:Busy Bees Pottery & Arts Studio\, 459 Baltimore Pike\, Springfield\, PA\, 19064\, United States
CATEGORIES:Toddlers and Kiddies
ATTACH;FMTTYPE=image/jpeg:https://springfield.busybeesart.com/wp-content/uploads/2021/10/Site-LITTLE-BEES-SPRINGFIELD-6.jpg
END:VEVENT
END:VCALENDAR