BEGIN:VCALENDAR
VERSION:2.0
PRODID:-//Busy Bees Pottery &amp; Arts Studio Springfield - ECPv6.1.2.2//NONSGML v1.0//EN
CALSCALE:GREGORIAN
METHOD:PUBLISH
X-WR-CALNAME:Busy Bees Pottery &amp; Arts Studio Springfield
X-ORIGINAL-URL:https://springfield.busybeesart.com
X-WR-CALDESC:Events for Busy Bees Pottery &amp; Arts Studio Springfield
REFRESH-INTERVAL;VALUE=DURATION:PT1H
X-Robots-Tag:noindex
X-PUBLISHED-TTL:PT1H
BEGIN:VTIMEZONE
TZID:America/Halifax
BEGIN:DAYLIGHT
TZOFFSETFROM:-0400
TZOFFSETTO:-0300
TZNAME:ADT
DTSTART:20220313T060000
END:DAYLIGHT
BEGIN:STANDARD
TZOFFSETFROM:-0300
TZOFFSETTO:-0400
TZNAME:AST
DTSTART:20221106T050000
END:STANDARD
END:VTIMEZONE
BEGIN:VEVENT
DTSTART;TZID=America/Halifax:20220327T173000
DTEND;TZID=America/Halifax:20220327T200000
DTSTAMP:20260420T001127
CREATED:20220304T181624Z
LAST-MODIFIED:20220304T181624Z
UID:195392-1648402200-1648411200@springfield.busybeesart.com
SUMMARY:Private Event: Jennifer Nicholas
DESCRIPTION:PRIVATE EVENT: Choose between pottery painting or glass fusing. \n$20 Registration Fee goes towards the cost of your party the night of the event. If you choose a project over $20 you will pay the difference that night. If you choose a project under $20 no refund is given. We require a minimum of $20 per person.
URL:https://springfield.busybeesart.com/event/private-event-jennifer-nicholas/
LOCATION:Busy Bees Pottery & Arts Studio\, 459 Baltimore Pike\, Springfield\, PA\, 19064\, United States
CATEGORIES:Private Event
END:VEVENT
END:VCALENDAR