BEGIN:VCALENDAR
VERSION:2.0
PRODID:-//Busy Bees Pottery &amp; Arts Studio Springfield - ECPv6.1.2.2//NONSGML v1.0//EN
CALSCALE:GREGORIAN
METHOD:PUBLISH
X-WR-CALNAME:Busy Bees Pottery &amp; Arts Studio Springfield
X-ORIGINAL-URL:https://springfield.busybeesart.com
X-WR-CALDESC:Events for Busy Bees Pottery &amp; Arts Studio Springfield
REFRESH-INTERVAL;VALUE=DURATION:PT1H
X-Robots-Tag:noindex
X-PUBLISHED-TTL:PT1H
BEGIN:VTIMEZONE
TZID:America/Halifax
BEGIN:DAYLIGHT
TZOFFSETFROM:-0400
TZOFFSETTO:-0300
TZNAME:ADT
DTSTART:20230312T060000
END:DAYLIGHT
BEGIN:STANDARD
TZOFFSETFROM:-0300
TZOFFSETTO:-0400
TZNAME:AST
DTSTART:20231105T050000
END:STANDARD
END:VTIMEZONE
BEGIN:VEVENT
DTSTART;TZID=America/Halifax:20230520T183000
DTEND;TZID=America/Halifax:20230520T210000
DTSTAMP:20260420T130913
CREATED:20230418T152154Z
LAST-MODIFIED:20230418T152154Z
UID:198261-1684607400-1684616400@springfield.busybeesart.com
SUMMARY:PRIVATE PARTY: Maleeah Casey
DESCRIPTION:PRIVATE PARTY : Maleeah Casey and guests \n*This is a glass fusing party. We require a minimum of $30 per guest. If you choose a glass project that night that is over $30 then you are responsible for paying the difference. If you choose a project that is under $30 no refund or change is given.* \nThis is a BYOB event. Feel free to bring snacks and drinks\, but please remember to bring any paper products you may need (cups\, napkins\, plates\, utensils etc.) * PLEASE READ ALL TERMS CAREFULLY WHEN CHECKING OUT*
URL:https://springfield.busybeesart.com/event/private-party-maleeah-casey/
LOCATION:Busy Bees Pottery & Arts Studio\, 459 Baltimore Pike\, Springfield\, PA\, 19064\, United States
CATEGORIES:Private Event
END:VEVENT
END:VCALENDAR