BEGIN:VCALENDAR
VERSION:2.0
PRODID:-//Busy Bees Pottery &amp; Arts Studio Springfield - ECPv6.1.2.2//NONSGML v1.0//EN
CALSCALE:GREGORIAN
METHOD:PUBLISH
X-WR-CALNAME:Busy Bees Pottery &amp; Arts Studio Springfield
X-ORIGINAL-URL:https://springfield.busybeesart.com
X-WR-CALDESC:Events for Busy Bees Pottery &amp; Arts Studio Springfield
REFRESH-INTERVAL;VALUE=DURATION:PT1H
X-Robots-Tag:noindex
X-PUBLISHED-TTL:PT1H
BEGIN:VTIMEZONE
TZID:America/Halifax
BEGIN:DAYLIGHT
TZOFFSETFROM:-0400
TZOFFSETTO:-0300
TZNAME:ADT
DTSTART:20210314T060000
END:DAYLIGHT
BEGIN:STANDARD
TZOFFSETFROM:-0300
TZOFFSETTO:-0400
TZNAME:AST
DTSTART:20211107T050000
END:STANDARD
END:VTIMEZONE
BEGIN:VEVENT
DTSTART;TZID=America/Halifax:20210914T180000
DTEND;TZID=America/Halifax:20210914T193000
DTSTAMP:20260421T062711
CREATED:20210728T193037Z
LAST-MODIFIED:20210728T193037Z
UID:193596-1631642400-1631647800@springfield.busybeesart.com
SUMMARY:SLC Night: Grade K
DESCRIPTION:Join one of our Busy Bees instructors in painting your very own Cougar Canvas! A portion of your purchase will be donated to the SLC Fundraiser. *Private event for Grade K of SLC* \n*Canvas paint stains clothing\, please dress appropriately. Canvases will be taken home at conclusion of class.
URL:https://springfield.busybeesart.com/event/slc-night-grade-k/
LOCATION:Busy Bees Pottery & Arts Studio\, 459 Baltimore Pike\, Springfield\, PA\, 19064\, United States
CATEGORIES:Private Event
ATTACH;FMTTYPE=image/jpeg:https://springfield.busybeesart.com/wp-content/uploads/2021/07/Site-Kids-Night-Out-23.jpg
END:VEVENT
END:VCALENDAR