BEGIN:VCALENDAR
VERSION:2.0
PRODID:-//Busy Bees Pottery &amp; Arts Studio Springfield - ECPv6.1.2.2//NONSGML v1.0//EN
CALSCALE:GREGORIAN
METHOD:PUBLISH
X-WR-CALNAME:Busy Bees Pottery &amp; Arts Studio Springfield
X-ORIGINAL-URL:https://springfield.busybeesart.com
X-WR-CALDESC:Events for Busy Bees Pottery &amp; Arts Studio Springfield
REFRESH-INTERVAL;VALUE=DURATION:PT1H
X-Robots-Tag:noindex
X-PUBLISHED-TTL:PT1H
BEGIN:VTIMEZONE
TZID:America/Halifax
BEGIN:DAYLIGHT
TZOFFSETFROM:-0400
TZOFFSETTO:-0300
TZNAME:ADT
DTSTART:20210314T060000
END:DAYLIGHT
BEGIN:STANDARD
TZOFFSETFROM:-0300
TZOFFSETTO:-0400
TZNAME:AST
DTSTART:20211107T050000
END:STANDARD
END:VTIMEZONE
BEGIN:VEVENT
DTSTART;TZID=America/Halifax:20210730T180000
DTEND;TZID=America/Halifax:20210730T203000
DTSTAMP:20260420T235113
CREATED:20210603T215743Z
LAST-MODIFIED:20210603T215743Z
UID:193339-1627668000-1627677000@springfield.busybeesart.com
SUMMARY:WitchCRAFT & WizARTry Event
DESCRIPTION:In honor of our favorite wizard’s birthday\, we are bringing back our adored “WitchCRAFT & WizARTry” event. Adults and kids are welcome to attend. $10 registration fee goes towards the cost of your chosen pottery project the night of. (projects range from $17 and up) We will have a selection of pottery painting projects to choose from that go along with the theme of the night. (Some projects from our past events\, as well as a handful of NEW ones will be available!) \nThis is a BYOB event feel free to bring snacks and drinks. (Due to Covid precautions\, Busy Bees will NOT be providing snacks or beverages like we have in the past but you are welcome to bring your own!)
URL:https://springfield.busybeesart.com/event/witchcraft-wizartry-event/
LOCATION:Busy Bees Pottery & Arts Studio\, 459 Baltimore Pike\, Springfield\, PA\, 19064\, United States
CATEGORIES:All Ages Pottery Painting
ATTACH;FMTTYPE=image/jpeg:https://springfield.busybeesart.com/wp-content/uploads/2021/06/Site-Adult-WS-Events-21.jpg
END:VEVENT
END:VCALENDAR