BEGIN:VCALENDAR
VERSION:2.0
PRODID:-//Busy Bees Pottery &amp; Arts Studio Springfield - ECPv6.1.2.2//NONSGML v1.0//EN
CALSCALE:GREGORIAN
METHOD:PUBLISH
X-WR-CALNAME:Busy Bees Pottery &amp; Arts Studio Springfield
X-ORIGINAL-URL:https://springfield.busybeesart.com
X-WR-CALDESC:Events for Busy Bees Pottery &amp; Arts Studio Springfield
REFRESH-INTERVAL;VALUE=DURATION:PT1H
X-Robots-Tag:noindex
X-PUBLISHED-TTL:PT1H
BEGIN:VTIMEZONE
TZID:America/Halifax
BEGIN:DAYLIGHT
TZOFFSETFROM:-0400
TZOFFSETTO:-0300
TZNAME:ADT
DTSTART:20220313T060000
END:DAYLIGHT
BEGIN:STANDARD
TZOFFSETFROM:-0300
TZOFFSETTO:-0400
TZNAME:AST
DTSTART:20221106T050000
END:STANDARD
END:VTIMEZONE
BEGIN:VEVENT
DTSTART;TZID=America/Halifax:20220402T100000
DTEND;TZID=America/Halifax:20220402T110000
DTSTAMP:20260421T082640
CREATED:20220201T204350Z
LAST-MODIFIED:20220322T193048Z
UID:10001486-1648893600-1648897200@springfield.busybeesart.com
SUMMARY:Paint & Storytime: Bunny Plate
DESCRIPTION:LITTLE BEES! Toddlers and Kiddies ages 18 months – 5 years old are welcome to come out and paint this bunny plate. We will use our own footprints to create the bunny’s feet. First we will paint\, then we will have Storytime! \nProject will be available for pick up 7 days after event. This paint is non-toxic and washes out of clothing with just water. *For toddlers we recommend at least one adult per child to help with craft.
URL:https://springfield.busybeesart.com/event/little-bees-bunny-plate/
LOCATION:Busy Bees Pottery & Arts Studio\, 459 Baltimore Pike\, Springfield\, PA\, 19064\, United States
CATEGORIES:Toddlers and Kiddies
ATTACH;FMTTYPE=image/jpeg:https://springfield.busybeesart.com/wp-content/uploads/2022/02/Site-LITTLE-BEES-SPRINGFIELD-14.jpg
END:VEVENT
BEGIN:VEVENT
DTSTART;TZID=America/Halifax:20220402T170000
DTEND;TZID=America/Halifax:20220402T183000
DTSTAMP:20260421T082640
CREATED:20220201T203632Z
LAST-MODIFIED:20220315T181448Z
UID:10001485-1648918800-1648924200@springfield.busybeesart.com
SUMMARY:All Ages Clay: Spring Lamb
DESCRIPTION:Adults and kids ages 7 and older are welcome to come out and sculpt this adorable spring lamb out of clay with one of our instructors! We added a flower to the top of the lamb\, but you can add whatever you like to make it your own! \nClay will be ready for pick up/or to paint 14 days after event. Once painted\, your piece will be re-fired in our kiln and ready for pick up 7 days later. \n*Kids must be age 7 or older
URL:https://springfield.busybeesart.com/event/all-ages-clay-spring-lamb/
LOCATION:Busy Bees Pottery & Arts Studio\, 459 Baltimore Pike\, Springfield\, PA\, 19064\, United States
CATEGORIES:All Ages Clay
ATTACH;FMTTYPE=image/jpeg:https://springfield.busybeesart.com/wp-content/uploads/2022/02/All-Ages-Site-SPRINGFIELD-39.jpg
END:VEVENT
END:VCALENDAR