BEGIN:VCALENDAR
VERSION:2.0
PRODID:-//Busy Bees Pottery &amp; Arts Studio Springfield - ECPv6.1.2.2//NONSGML v1.0//EN
CALSCALE:GREGORIAN
METHOD:PUBLISH
X-ORIGINAL-URL:https://springfield.busybeesart.com
X-WR-CALDESC:Events for Busy Bees Pottery &amp; Arts Studio Springfield
REFRESH-INTERVAL;VALUE=DURATION:PT1H
X-Robots-Tag:noindex
X-PUBLISHED-TTL:PT1H
BEGIN:VTIMEZONE
TZID:America/Halifax
BEGIN:DAYLIGHT
TZOFFSETFROM:-0400
TZOFFSETTO:-0300
TZNAME:ADT
DTSTART:20250309T060000
END:DAYLIGHT
BEGIN:STANDARD
TZOFFSETFROM:-0300
TZOFFSETTO:-0400
TZNAME:AST
DTSTART:20251102T050000
END:STANDARD
END:VTIMEZONE
BEGIN:VEVENT
DTSTART;TZID=America/Halifax:20250124T180000
DTEND;TZID=America/Halifax:20250124T200000
DTSTAMP:20260424T170643
CREATED:20250104T193547Z
LAST-MODIFIED:20250104T193547Z
UID:10001714-1737741600-1737748800@springfield.busybeesart.com
SUMMARY:Kids Night Out: Snowy Cat Mosaic
DESCRIPTION:Kids join us for a fun night out! We will be making this 6″ Snowy Cat Mosaic. First we will paint it\, then we will decorate it with gemstones and glitter! \n*This is a parent drop off workshop. Parents drop off their children and come back to pick them up once the workshop is over at 8pm. Project will be taken home at conclusion of workshop. *Mosaic paint stains clothing. Please dress your child appropriately.
URL:https://springfield.busybeesart.com/event/kids-night-out-snowy-cat-mosaic/
LOCATION:Busy Bees Pottery & Arts Studio\, 459 Baltimore Pike\, Springfield\, PA\, 19064\, United States
CATEGORIES:Kids Night Out
ATTACH;FMTTYPE=image/jpeg:https://springfield.busybeesart.com/wp-content/uploads/2025/01/Copy-of-CLOSED-13.jpg
END:VEVENT
END:VCALENDAR