BEGIN:VCALENDAR
VERSION:2.0
PRODID:-//Busy Bees Pottery &amp; Arts Studio Springfield - ECPv6.1.2.2//NONSGML v1.0//EN
CALSCALE:GREGORIAN
METHOD:PUBLISH
X-WR-CALNAME:Busy Bees Pottery &amp; Arts Studio Springfield
X-ORIGINAL-URL:https://springfield.busybeesart.com
X-WR-CALDESC:Events for Busy Bees Pottery &amp; Arts Studio Springfield
REFRESH-INTERVAL;VALUE=DURATION:PT1H
X-Robots-Tag:noindex
X-PUBLISHED-TTL:PT1H
BEGIN:VTIMEZONE
TZID:America/Halifax
BEGIN:DAYLIGHT
TZOFFSETFROM:-0400
TZOFFSETTO:-0300
TZNAME:ADT
DTSTART:20210314T060000
END:DAYLIGHT
BEGIN:STANDARD
TZOFFSETFROM:-0300
TZOFFSETTO:-0400
TZNAME:AST
DTSTART:20211107T050000
END:STANDARD
BEGIN:DAYLIGHT
TZOFFSETFROM:-0400
TZOFFSETTO:-0300
TZNAME:ADT
DTSTART:20220313T060000
END:DAYLIGHT
BEGIN:STANDARD
TZOFFSETFROM:-0300
TZOFFSETTO:-0400
TZNAME:AST
DTSTART:20221106T050000
END:STANDARD
BEGIN:DAYLIGHT
TZOFFSETFROM:-0400
TZOFFSETTO:-0300
TZNAME:ADT
DTSTART:20230312T060000
END:DAYLIGHT
BEGIN:STANDARD
TZOFFSETFROM:-0300
TZOFFSETTO:-0400
TZNAME:AST
DTSTART:20231105T050000
END:STANDARD
END:VTIMEZONE
BEGIN:VEVENT
DTSTART;TZID=America/Halifax:20231013T190000
DTEND;TZID=America/Halifax:20231013T203000
DTSTAMP:20260420T190639
CREATED:20230822T215241Z
LAST-MODIFIED:20230822T215403Z
UID:10001614-1697223600-1697229000@springfield.busybeesart.com
SUMMARY:All Ages Clay: Witch's House
DESCRIPTION:Adults and kids ages 7 and older are welcome to come out and sculpt this Witch Hat Fairy House out of clay with one of our instructors! (ADULTS MAY BYOB\, we will seat you separately from kids that sign up) \nClay will be ready for pick up/or to paint 7 days after event. Once painted\, your piece will be re-fired in our kiln and ready for pick up 7-10 days later. \n*Kids must be age 7 or older
URL:https://springfield.busybeesart.com/event/all-ages-clay-witchs-house/
LOCATION:Busy Bees Pottery & Arts Studio\, 459 Baltimore Pike\, Springfield\, PA\, 19064\, United States
CATEGORIES:All Ages Clay
ATTACH;FMTTYPE=image/jpeg:https://springfield.busybeesart.com/wp-content/uploads/2023/08/All-Ages-Site-SPRINGFIELD-7.jpg
END:VEVENT
BEGIN:VEVENT
DTSTART;TZID=America/Halifax:20230218T163000
DTEND;TZID=America/Halifax:20230218T180000
DTSTAMP:20260420T190639
CREATED:20230111T201549Z
LAST-MODIFIED:20230131T222847Z
UID:10001570-1676737800-1676743200@springfield.busybeesart.com
SUMMARY:All Ages Clay: Succulent Pots
DESCRIPTION:Adults and kids ages 7 and older are welcome to come out and sculpt your own succulent pots out of clay with one of our instructors! Each attendee will get two pounds of clay\, you may make one large pot\, or two-three small pots. (You may share clay\, if making pots together) \nClay will be ready for pick up/or to paint 14 days after event. Once painted\, your piece will be re-fired in our kiln and ready for pick up 7 days later. \nADULTS MAY BYOB* MAKE IT A DATE NIGHT! We will make sure you are separated from any kids that sign up.
URL:https://springfield.busybeesart.com/event/all-ages-clay-succulent-pots/
LOCATION:Busy Bees Pottery & Arts Studio\, 459 Baltimore Pike\, Springfield\, PA\, 19064\, United States
CATEGORIES:All Ages Clay
ATTACH;FMTTYPE=image/jpeg:https://springfield.busybeesart.com/wp-content/uploads/2023/01/All-Ages-Site-SPRINGFIELD-6.jpg
END:VEVENT
BEGIN:VEVENT
DTSTART;TZID=America/Halifax:20221126T163000
DTEND;TZID=America/Halifax:20221126T180000
DTSTAMP:20260420T190639
CREATED:20221025T200207Z
LAST-MODIFIED:20221026T195956Z
UID:10001546-1669480200-1669485600@springfield.busybeesart.com
SUMMARY:All Ages: Clay Christmas Tree
DESCRIPTION:Adults and kids ages 7 and older are welcome to come out and sculpt your own Christmas Tree out of clay with one of our instructors! (Tree’s are roughly 6″ high depending on how you sculpt it) \nClay will be ready for pick up/or to paint 7-14 days after event. Once painted\, your piece will be re-fired in our kiln and ready for pick up 7 days later. \n*Kids must be age 7 or older \n*ADULTS ALLOWED TO BYOB / We will just separate you from any groups with kids*
URL:https://springfield.busybeesart.com/event/all-ages-clay-christmas-tree/
LOCATION:Busy Bees Pottery & Arts Studio\, 459 Baltimore Pike\, Springfield\, PA\, 19064\, United States
CATEGORIES:All Ages Clay
ATTACH;FMTTYPE=image/jpeg:https://springfield.busybeesart.com/wp-content/uploads/2022/10/All-Ages-Site-SPRINGFIELD-47.jpg
END:VEVENT
BEGIN:VEVENT
DTSTART;TZID=America/Halifax:20220930T183000
DTEND;TZID=America/Halifax:20220930T200000
DTSTAMP:20260420T190639
CREATED:20220831T174730Z
LAST-MODIFIED:20220902T170622Z
UID:10001437-1664562600-1664568000@springfield.busybeesart.com
SUMMARY:All Ages Clay: Spell Book
DESCRIPTION:IN HONOR OF OUR FAVORITE WITCHES\, THE SANDERSON SISTERS! Adults and kids ages 7 and older are welcome to come out and sculpt this spell book out of clay with one of our instructors! We will walk you through step by step in creating this magical book. \nClay will be ready for pick up/or to paint 7-14 days after event. Once painted\, your piece will be re-fired in our kiln and ready for pick up 7 days later. \n*ADULTS MAY BYOB \n*Kids must be age 7 or older (YOU ONLY NEED TO PURCHASE A TICKET FOR THE AMOUNT OF SPELL BOOKS YOU ARE MAKING\, IF YOU ARE A PARENT & CHILD MAKING ONE TOGETHER\, JUST PURCHASE ONE TICKET).
URL:https://springfield.busybeesart.com/event/all-ages-clay-spell-book/
LOCATION:Busy Bees Pottery & Arts Studio\, 459 Baltimore Pike\, Springfield\, PA\, 19064\, United States
CATEGORIES:All Ages Clay
ATTACH;FMTTYPE=image/jpeg:https://springfield.busybeesart.com/wp-content/uploads/2022/08/All-Ages-Site-SPRINGFIELD-45.jpg
END:VEVENT
BEGIN:VEVENT
DTSTART;TZID=America/Halifax:20220924T170000
DTEND;TZID=America/Halifax:20220924T183000
DTSTAMP:20260420T190639
CREATED:20220831T172604Z
LAST-MODIFIED:20220902T170829Z
UID:10001435-1664038800-1664044200@springfield.busybeesart.com
SUMMARY:All Ages Clay: Witch's Door
DESCRIPTION:Adults and kids ages 7 and older are welcome to come out and sculpt this Witch’s Door out of clay with one of our instructors! We will teach you step by step how to create this magical piece. Clay will be ready for pick up/or to paint 14 days after event. Once painted\, your piece will be re-fired in our kiln and ready for pick up 7 days later. \n*Kids must be age 7 or older (YOU ONLY NEED TO PURCHASE A TICKET FOR THE AMOUNT OF WITCH’S DOORS YOU ARE MAKING\, IF YOU ARE A PARENT & CHILD MAKING ONE TOGETHER\, JUST PURCHASE ONE TICKET). \n*Adults are welcome to BYOB*
URL:https://springfield.busybeesart.com/event/all-ages-clay-witchs-door/
LOCATION:Busy Bees Pottery & Arts Studio\, 459 Baltimore Pike\, Springfield\, PA\, 19064\, United States
CATEGORIES:All Ages Clay
ATTACH;FMTTYPE=image/jpeg:https://springfield.busybeesart.com/wp-content/uploads/2022/08/All-Ages-Site-SPRINGFIELD-46.jpg
END:VEVENT
BEGIN:VEVENT
DTSTART;TZID=America/Halifax:20220521T170000
DTEND;TZID=America/Halifax:20220521T183000
DTSTAMP:20260420T190639
CREATED:20220317T202007Z
LAST-MODIFIED:20220317T202114Z
UID:10001510-1653152400-1653157800@springfield.busybeesart.com
SUMMARY:Adults & Teens: Sculpt Your Own Fairy House
DESCRIPTION:Adults and teenagers ages 14 and up\, join one of our Busy Bees instructors in sculpting your very own fairy house. We will walk you through step by step how to make this adorable little house out of clay. You can create one like ours\, or add your own flare to it! \nProjects will be sculpted at the workshop. They will be ready to paint two weeks after the event. (cost includes the entire process of sculpting and painting). Once painted they will be ready for pick up in 7 days.
URL:https://springfield.busybeesart.com/event/adults-teens-sculpt-your-own-fairy-house/
LOCATION:Busy Bees Pottery & Arts Studio\, 459 Baltimore Pike\, Springfield\, PA\, 19064\, United States
CATEGORIES:All Ages Clay
ATTACH;FMTTYPE=image/jpeg:https://springfield.busybeesart.com/wp-content/uploads/2022/03/All-Ages-Site-SPRINGFIELD-44.jpg
END:VEVENT
BEGIN:VEVENT
DTSTART;TZID=America/Halifax:20220402T170000
DTEND;TZID=America/Halifax:20220402T183000
DTSTAMP:20260420T190639
CREATED:20220201T203632Z
LAST-MODIFIED:20220315T181448Z
UID:10001485-1648918800-1648924200@springfield.busybeesart.com
SUMMARY:All Ages Clay: Spring Lamb
DESCRIPTION:Adults and kids ages 7 and older are welcome to come out and sculpt this adorable spring lamb out of clay with one of our instructors! We added a flower to the top of the lamb\, but you can add whatever you like to make it your own! \nClay will be ready for pick up/or to paint 14 days after event. Once painted\, your piece will be re-fired in our kiln and ready for pick up 7 days later. \n*Kids must be age 7 or older
URL:https://springfield.busybeesart.com/event/all-ages-clay-spring-lamb/
LOCATION:Busy Bees Pottery & Arts Studio\, 459 Baltimore Pike\, Springfield\, PA\, 19064\, United States
CATEGORIES:All Ages Clay
ATTACH;FMTTYPE=image/jpeg:https://springfield.busybeesart.com/wp-content/uploads/2022/02/All-Ages-Site-SPRINGFIELD-39.jpg
END:VEVENT
BEGIN:VEVENT
DTSTART;TZID=America/Halifax:20220108T170000
DTEND;TZID=America/Halifax:20220108T183000
DTSTAMP:20260420T190639
CREATED:20211110T201006Z
LAST-MODIFIED:20211110T201006Z
UID:10001380-1641661200-1641666600@springfield.busybeesart.com
SUMMARY:All Ages Clay: Snow Owl
DESCRIPTION:Adults and kids ages 7 and older are welcome to come out and sculpt this snow owl out of clay with one of our instructors! \nClay will be ready for pick up/or to paint 14 days after event. Once painted\, your piece will be re-fired in our kiln and ready for pick up 7 days later. \n*Kids must be age 7 or older
URL:https://springfield.busybeesart.com/event/all-ages-clay-snow-owl/
LOCATION:Busy Bees Pottery & Arts Studio\, 459 Baltimore Pike\, Springfield\, PA\, 19064\, United States
CATEGORIES:All Ages Clay
ATTACH;FMTTYPE=image/jpeg:https://springfield.busybeesart.com/wp-content/uploads/2021/11/All-Ages-Site-SPRINGFIELD-36.jpg
END:VEVENT
BEGIN:VEVENT
DTSTART;TZID=America/Halifax:20211008T180000
DTEND;TZID=America/Halifax:20211008T193000
DTSTAMP:20260420T190639
CREATED:20210909T222312Z
LAST-MODIFIED:20210909T222312Z
UID:10001438-1633716000-1633721400@springfield.busybeesart.com
SUMMARY:All Ages Clay: Halloween Hanger
DESCRIPTION:Adults and kids ages 7 and older are welcome to come out and sculpt this Halloween Hanger out of clay with one of our instructors! \nClay will be ready for pick up/or to paint 10-14 days after event. Once painted\, your piece will be re-fired in our kiln and ready for pick up 7 days later. \n*Kids must be age 7 or older
URL:https://springfield.busybeesart.com/event/all-ages-clay-halloween-hanger/
LOCATION:Busy Bees Pottery & Arts Studio\, 459 Baltimore Pike\, Springfield\, PA\, 19064\, United States
CATEGORIES:All Ages Clay
ATTACH;FMTTYPE=image/jpeg:https://springfield.busybeesart.com/wp-content/uploads/2021/09/All-Ages-Site-SPRINGFIELD-29.jpg
END:VEVENT
BEGIN:VEVENT
DTSTART;TZID=America/Halifax:20210821T160000
DTEND;TZID=America/Halifax:20210821T173000
DTSTAMP:20260420T190639
CREATED:20210714T182115Z
LAST-MODIFIED:20210714T185629Z
UID:10001416-1629561600-1629567000@springfield.busybeesart.com
SUMMARY:All Ages Clay: Wind in my sails
DESCRIPTION:Adults and kids ages 7 and older are welcome to come out and sculpt this sail boat plaque out of clay with one of our instructors! \nClay will be ready for pick up/or to paint 14 days after event. Once painted\, your piece will be re-fired in our kiln and ready for pick up 7 days later. \n*Kids must be age 7 or older (age 6 is okay as long as they are accompanied by an adult).
URL:https://springfield.busybeesart.com/event/all-ages-clay-wind-in-my-sails/
LOCATION:Busy Bees Pottery & Arts Studio\, 459 Baltimore Pike\, Springfield\, PA\, 19064\, United States
CATEGORIES:All Ages Clay
ATTACH;FMTTYPE=image/jpeg:https://springfield.busybeesart.com/wp-content/uploads/2021/07/All-Ages-Site-SPRINGFIELD-24.jpg
END:VEVENT
BEGIN:VEVENT
DTSTART;TZID=America/Halifax:20210731T160000
DTEND;TZID=America/Halifax:20210731T173000
DTSTAMP:20260420T190639
CREATED:20210603T214626Z
LAST-MODIFIED:20210603T214626Z
UID:10001412-1627747200-1627752600@springfield.busybeesart.com
SUMMARY:All Ages Clay: Pesky Plant
DESCRIPTION:Adults and kids ages 7 and older\, let’s sculpt some mandrakes out of clay in honor of our favorite Wizard’s birthday! \nClay will be ready for pick up/or to paint 14 days after event. Once painted\, your piece will be re-fired in our kiln and ready for pick up 7 days later. \n*Kids must be age 7 or older*
URL:https://springfield.busybeesart.com/event/all-ages-clay-pesky-plant/
LOCATION:Busy Bees Pottery & Arts Studio\, 459 Baltimore Pike\, Springfield\, PA\, 19064\, United States
CATEGORIES:All Ages Clay
ATTACH;FMTTYPE=image/jpeg:https://springfield.busybeesart.com/wp-content/uploads/2021/06/All-Ages-Site-SPRINGFIELD-19.jpg
END:VEVENT
END:VCALENDAR