BEGIN:VCALENDAR
VERSION:2.0
PRODID:-//Busy Bees Pottery &amp; Arts Studio Springfield - ECPv6.1.2.2//NONSGML v1.0//EN
CALSCALE:GREGORIAN
METHOD:PUBLISH
X-WR-CALNAME:Busy Bees Pottery &amp; Arts Studio Springfield
X-ORIGINAL-URL:https://springfield.busybeesart.com
X-WR-CALDESC:Events for Busy Bees Pottery &amp; Arts Studio Springfield
REFRESH-INTERVAL;VALUE=DURATION:PT1H
X-Robots-Tag:noindex
X-PUBLISHED-TTL:PT1H
BEGIN:VTIMEZONE
TZID:America/Halifax
BEGIN:DAYLIGHT
TZOFFSETFROM:-0400
TZOFFSETTO:-0300
TZNAME:ADT
DTSTART:20260308T060000
END:DAYLIGHT
BEGIN:STANDARD
TZOFFSETFROM:-0300
TZOFFSETTO:-0400
TZNAME:AST
DTSTART:20261101T050000
END:STANDARD
END:VTIMEZONE
BEGIN:VEVENT
DTSTART;TZID=America/Halifax:20260313T180000
DTEND;TZID=America/Halifax:20260313T200000
DTSTAMP:20260423T092058
CREATED:20260126T035519Z
LAST-MODIFIED:20260214T003448Z
UID:10001795-1773424800-1773432000@springfield.busybeesart.com
SUMMARY:Kids "St. Catrick's Day" Canvas
DESCRIPTION:Kids ages 6-12 are welcome to come out and paint this St. Catrick’s Day canvas along with one of our instructors. \n*This is a Parent Drop Off workshop. Drop the kids off with us at 6pm and pick up at 8pm. Project is taken home same night.
URL:https://springfield.busybeesart.com/event/kids-st-catricks-day-canvas/
LOCATION:Busy Bees Pottery & Arts Studio\, 459 Baltimore Pike\, Springfield\, PA\, 19064\, United States
CATEGORIES:Kids Night Out
ATTACH;FMTTYPE=image/jpeg:https://springfield.busybeesart.com/wp-content/uploads/2026/01/Fall.Giveaway-9.jpg
END:VEVENT
BEGIN:VEVENT
DTSTART;TZID=America/Halifax:20260327T180000
DTEND;TZID=America/Halifax:20260327T200000
DTSTAMP:20260423T092058
CREATED:20260202T175004Z
LAST-MODIFIED:20260204T184526Z
UID:10001798-1774634400-1774641600@springfield.busybeesart.com
SUMMARY:Kids K-Pop Stars Canvas
DESCRIPTION:Kids join us for a fun night out painting our favorite K-POP Stars on a canvas! \nThis is a parent drop off event. Drop off at 6pm and pick up at 8pm. Canvas paint is non-toxic but DOES stain clothing\, please dress your child accordingly.
URL:https://springfield.busybeesart.com/event/kids-k-pop-stars-canvas/
LOCATION:Busy Bees Pottery & Arts Studio\, 459 Baltimore Pike\, Springfield\, PA\, 19064\, United States
CATEGORIES:Kids Night Out
ATTACH;FMTTYPE=image/jpeg:https://springfield.busybeesart.com/wp-content/uploads/2026/02/Fall.Giveaway-13.jpg
END:VEVENT
END:VCALENDAR