BEGIN:VCALENDAR
VERSION:2.0
PRODID:-//Busy Bees Pottery &amp; Arts Studio Springfield - ECPv6.1.2.2//NONSGML v1.0//EN
CALSCALE:GREGORIAN
METHOD:PUBLISH
X-WR-CALNAME:Busy Bees Pottery &amp; Arts Studio Springfield
X-ORIGINAL-URL:https://springfield.busybeesart.com
X-WR-CALDESC:Events for Busy Bees Pottery &amp; Arts Studio Springfield
REFRESH-INTERVAL;VALUE=DURATION:PT1H
X-Robots-Tag:noindex
X-PUBLISHED-TTL:PT1H
BEGIN:VTIMEZONE
TZID:America/Halifax
BEGIN:DAYLIGHT
TZOFFSETFROM:-0400
TZOFFSETTO:-0300
TZNAME:ADT
DTSTART:20210314T060000
END:DAYLIGHT
BEGIN:STANDARD
TZOFFSETFROM:-0300
TZOFFSETTO:-0400
TZNAME:AST
DTSTART:20211107T050000
END:STANDARD
BEGIN:DAYLIGHT
TZOFFSETFROM:-0400
TZOFFSETTO:-0300
TZNAME:ADT
DTSTART:20220313T060000
END:DAYLIGHT
BEGIN:STANDARD
TZOFFSETFROM:-0300
TZOFFSETTO:-0400
TZNAME:AST
DTSTART:20221106T050000
END:STANDARD
END:VTIMEZONE
BEGIN:VEVENT
DTSTART;TZID=America/Halifax:20211224T090000
DTEND;TZID=America/Halifax:20211224T120000
DTSTAMP:20260423T052530
CREATED:20211022T202256Z
LAST-MODIFIED:20211022T202256Z
UID:10001463-1640336400-1640347200@springfield.busybeesart.com
SUMMARY:Christmas Eve: Get your last minute Gift Certificates!
DESCRIPTION:
URL:https://springfield.busybeesart.com/event/christmas-eve-get-your-last-minute-gift-certificates/
LOCATION:Busy Bees Pottery & Arts Studio\, 459 Baltimore Pike\, Springfield\, PA\, 19064\, United States
CATEGORIES:Studio Event
ATTACH;FMTTYPE=image/jpeg:https://springfield.busybeesart.com/wp-content/uploads/2021/10/Site-Adult-WS-Events-38.jpg
END:VEVENT
BEGIN:VEVENT
DTSTART;VALUE=DATE:20211225
DTEND;VALUE=DATE:20211226
DTSTAMP:20260423T052530
CREATED:20211022T193201Z
LAST-MODIFIED:20211022T193201Z
UID:10001461-1640390400-1640476799@springfield.busybeesart.com
SUMMARY:Closed Christmas Day
DESCRIPTION:
URL:https://springfield.busybeesart.com/event/closed-christmas-day/
LOCATION:Busy Bees Pottery & Arts Studio\, 459 Baltimore Pike\, Springfield\, PA\, 19064\, United States
CATEGORIES:Studio Event
ATTACH;FMTTYPE=image/jpeg:https://springfield.busybeesart.com/wp-content/uploads/2021/10/Site-Adult-WS-Events-36.jpg
END:VEVENT
BEGIN:VEVENT
DTSTART;VALUE=DATE:20211231
DTEND;VALUE=DATE:20220102
DTSTAMP:20260423T052530
CREATED:20211029T190144Z
LAST-MODIFIED:20211229T163342Z
UID:10001378-1640908800-1641081599@springfield.busybeesart.com
SUMMARY:Closed New Year's Eve & New Year's Day
DESCRIPTION:
URL:https://springfield.busybeesart.com/event/closed-new-years-day/
LOCATION:Busy Bees Pottery & Arts Studio\, 459 Baltimore Pike\, Springfield\, PA\, 19064\, United States
CATEGORIES:Studio Event
ATTACH;FMTTYPE=image/jpeg:https://springfield.busybeesart.com/wp-content/uploads/2021/10/Site-Adult-WS-Events-43.jpg
END:VEVENT
END:VCALENDAR