BEGIN:VCALENDAR
VERSION:2.0
PRODID:-//Busy Bees Pottery &amp; Arts Studio Springfield - ECPv6.1.2.2//NONSGML v1.0//EN
CALSCALE:GREGORIAN
METHOD:PUBLISH
X-ORIGINAL-URL:https://springfield.busybeesart.com
X-WR-CALDESC:Events for Busy Bees Pottery &amp; Arts Studio Springfield
REFRESH-INTERVAL;VALUE=DURATION:PT1H
X-Robots-Tag:noindex
X-PUBLISHED-TTL:PT1H
BEGIN:VTIMEZONE
TZID:America/Halifax
BEGIN:DAYLIGHT
TZOFFSETFROM:-0400
TZOFFSETTO:-0300
TZNAME:ADT
DTSTART:20220313T060000
END:DAYLIGHT
BEGIN:STANDARD
TZOFFSETFROM:-0300
TZOFFSETTO:-0400
TZNAME:AST
DTSTART:20221106T050000
END:STANDARD
END:VTIMEZONE
BEGIN:VEVENT
DTSTART;TZID=America/Halifax:20220205T100000
DTEND;TZID=America/Halifax:20220205T110000
DTSTAMP:20260422T061316
CREATED:20211110T224530Z
LAST-MODIFIED:20211110T224530Z
UID:10001388-1644055200-1644058800@springfield.busybeesart.com
SUMMARY:Paint & Storytime: Bee Mine Plate
DESCRIPTION:LITTLE BEES! Toddlers and Kiddies ages 18 months – 5 years old are welcome to come out and paint this “Bee Mine” plate.  First we will paint then we will have Storytime! \nProject will be available for pick up 7 days after event. (In time for Valentine’s Day!) \nThis paint is non-toxic and washes out of clothing with just water. *For toddlers we recommend at least one adult per child to help with craft.
URL:https://springfield.busybeesart.com/event/paint-storytime-bee-mine-plate/
LOCATION:Busy Bees Pottery & Arts Studio\, 459 Baltimore Pike\, Springfield\, PA\, 19064\, United States
CATEGORIES:Toddlers and Kiddies
ATTACH;FMTTYPE=image/jpeg:https://springfield.busybeesart.com/wp-content/uploads/2021/11/Site-LITTLE-BEES-SPRINGFIELD-10.jpg
END:VEVENT
BEGIN:VEVENT
DTSTART;TZID=America/Halifax:20220211T180000
DTEND;TZID=America/Halifax:20220211T200000
DTSTAMP:20260422T061316
CREATED:20211110T223812Z
LAST-MODIFIED:20211110T224103Z
UID:10001385-1644602400-1644609600@springfield.busybeesart.com
SUMMARY:Paint & Bingo: Puppy Love Canvas
DESCRIPTION:Kids join us for a fun night out! We will be painting this adorable “Puppy Love” canvas! Afterwards we will play bingo where you can win fun prizes! Each child attending will also be sent home with a small goodie bag. \n*Children must wear their masks the entire event\, their goodies bags will be given to them at the end of the workshop to take home* \n*This is a parent drop off workshop. Parents drop off their children and come back to pick them up once the workshop is over at 8pm. Project will be taken home at conclusion of workshop. \n*Canvas paint stains clothing. Please dress your child appropriately.
URL:https://springfield.busybeesart.com/event/paint-bingo-puppy-love/
LOCATION:Busy Bees Pottery & Arts Studio\, 459 Baltimore Pike\, Springfield\, PA\, 19064\, United States
CATEGORIES:Kids Night Out
ATTACH;FMTTYPE=image/jpeg:https://springfield.busybeesart.com/wp-content/uploads/2021/11/Site-Kids-Night-Out-34.jpg
END:VEVENT
BEGIN:VEVENT
DTSTART;TZID=America/Halifax:20220212T190000
DTEND;TZID=America/Halifax:20220212T213000
DTSTAMP:20260422T061316
CREATED:20211221T211246Z
LAST-MODIFIED:20211221T211246Z
UID:10001467-1644692400-1644701400@springfield.busybeesart.com
SUMMARY:Adult BYOB: Stupid Cupid Pottery Event
DESCRIPTION:Adults only BYOB event. We will have all things silly\, raunchy\, and romantic for not just couples in love but also singles and besties. So gather together and join us for a fun night of pottery painting. (Wineglass painting will also be available). \n*This is a BYOB event\, feel free to bring snacks and drinks. Remember to bring cups and paper products that you may need. $20 registration goes towards the cost of your project the night of. If you choose a piece that is more than $20 you will pay the difference that night. If you choose a piece less than $20 no refund is given.
URL:https://springfield.busybeesart.com/event/adult-byob-stupid-cupid-pottery-event/
LOCATION:Busy Bees Pottery & Arts Studio\, 459 Baltimore Pike\, Springfield\, PA\, 19064\, United States
CATEGORIES:Adults Only
ATTACH;FMTTYPE=image/jpeg:https://springfield.busybeesart.com/wp-content/uploads/2021/12/Site-Adult-WS-Events-45.jpg
END:VEVENT
BEGIN:VEVENT
DTSTART;TZID=America/Halifax:20220213T173000
DTEND;TZID=America/Halifax:20220213T200000
DTSTAMP:20260422T061316
CREATED:20220119T164450Z
LAST-MODIFIED:20220119T164450Z
UID:10001482-1644773400-1644782400@springfield.busybeesart.com
SUMMARY:Private Party: Melissa McCaffrey
DESCRIPTION:PRIVATE PARTY: Join us for a fun night of pottery painting. This is a BYOB event (remember to bring cups\, plates\, utensils\, paper products you may need) (No catered foods allowed).
URL:https://springfield.busybeesart.com/event/private-party-melissa-mccaffrey/
LOCATION:Busy Bees Pottery & Arts Studio\, 459 Baltimore Pike\, Springfield\, PA\, 19064\, United States
CATEGORIES:Private Event
END:VEVENT
BEGIN:VEVENT
DTSTART;TZID=America/Halifax:20220219T170000
DTEND;TZID=America/Halifax:20220219T183000
DTSTAMP:20260422T061316
CREATED:20211227T172350Z
LAST-MODIFIED:20211227T172350Z
UID:10001468-1645290000-1645295400@springfield.busybeesart.com
SUMMARY:All Ages Candle Making
DESCRIPTION:NEW to the store is Candle Making. Join one of our instructors in making your very own candle. Choose your candle jar\, candle scent\, AND candle colors! Candles will be taken home with you at conclusion of workshop. \n$20 registration fee goes towards the cost of your candle the night of. If you choose a candle that is more than $20 you will pay the difference that night. Candles start at $20
URL:https://springfield.busybeesart.com/event/all-ages-candle-making/
LOCATION:Busy Bees Pottery & Arts Studio\, 459 Baltimore Pike\, Springfield\, PA\, 19064\, United States
CATEGORIES:All Ages Candle Making
ATTACH;FMTTYPE=image/jpeg:https://springfield.busybeesart.com/wp-content/uploads/2021/12/All-Ages-Site-SPRINGFIELD-37.jpg
END:VEVENT
BEGIN:VEVENT
DTSTART;TZID=America/Halifax:20220219T183000
DTEND;TZID=America/Halifax:20220219T210000
DTSTAMP:20260422T061316
CREATED:20220209T190827Z
LAST-MODIFIED:20220209T190827Z
UID:10001492-1645295400-1645304400@springfield.busybeesart.com
SUMMARY:Private Event: Lisa Connolly & Friends
DESCRIPTION:Private Event for Lisa Connolly and friends. Join us for a fun night of pottery painting and mosaics. $20 registration fee goes towards the cost of your project the night of. (If you choose a project over $20 you will pay the difference that night\, if you choose a project less than $20 no refund is given). BYOB event* remember to bring cups and paper products that you may need for your drinks and snacks.*Please read our party terms when checking out.
URL:https://springfield.busybeesart.com/event/private-event-lisa-connolly-friends/
LOCATION:Busy Bees Pottery & Arts Studio\, 459 Baltimore Pike\, Springfield\, PA\, 19064\, United States
CATEGORIES:Private Event
END:VEVENT
BEGIN:VEVENT
DTSTART;TZID=America/Halifax:20220221T110000
DTEND;TZID=America/Halifax:20220221T160000
DTSTAMP:20260422T061316
CREATED:20220107T211205Z
LAST-MODIFIED:20220107T211518Z
UID:10001471-1645441200-1645459200@springfield.busybeesart.com
SUMMARY:Presidents' Day
DESCRIPTION:
URL:https://springfield.busybeesart.com/event/presidents-day/
LOCATION:Busy Bees Pottery & Arts Studio\, 459 Baltimore Pike\, Springfield\, PA\, 19064\, United States
CATEGORIES:Studio Event
ATTACH;FMTTYPE=image/jpeg:https://springfield.busybeesart.com/wp-content/uploads/2022/01/Site-Holidays-Events-4.jpg
END:VEVENT
BEGIN:VEVENT
DTSTART;TZID=America/Halifax:20220223T180000
DTEND;TZID=America/Halifax:20220223T193000
DTSTAMP:20260422T061316
CREATED:20220125T165309Z
LAST-MODIFIED:20220126T212119Z
UID:10001483-1645639200-1645644600@springfield.busybeesart.com
SUMMARY:Private Event: Girl Scout Troop 5488
DESCRIPTION:Private Event for Girl Scout Troop 5488 \nDaisies come out to Busy Bees to sculpt your own clay pinch pot and paint a tile. You will learn about our kiln process and the difference between clay and bisque as well as earn a Busy Bees Clay Patch!
URL:https://springfield.busybeesart.com/event/private-event-girl-scout-troop-5488/
LOCATION:Busy Bees Pottery & Arts Studio\, 459 Baltimore Pike\, Springfield\, PA\, 19064\, United States
CATEGORIES:Private Event
ATTACH;FMTTYPE=image/jpeg:https://springfield.busybeesart.com/wp-content/uploads/2022/01/PRIVATE-EVENT-GRAPHICS-7.jpg
END:VEVENT
BEGIN:VEVENT
DTSTART;TZID=America/Halifax:20220227T173000
DTEND;TZID=America/Halifax:20220227T200000
DTSTAMP:20260422T061316
CREATED:20220211T201209Z
LAST-MODIFIED:20220225T223131Z
UID:10001493-1645983000-1645992000@springfield.busybeesart.com
SUMMARY:Private Party: Yanniah's Sweet Sixteen
DESCRIPTION:Private Party for Yanniah’s Sweet Sixteen. Choose from candle making or glass fusing. (Candles can be taken home the same night as event\, glass fusing art will be ready for pick up two weeks after event).
URL:https://springfield.busybeesart.com/event/private-party-yanniahs-sweet-sixteen/
LOCATION:Busy Bees Pottery & Arts Studio\, 459 Baltimore Pike\, Springfield\, PA\, 19064\, United States
CATEGORIES:Private Event
ATTACH;FMTTYPE=image/jpeg:https://springfield.busybeesart.com/wp-content/uploads/2022/02/PRIVATE-EVENT-GRAPHICS-8.jpg
END:VEVENT
END:VCALENDAR