BEGIN:VCALENDAR
VERSION:2.0
PRODID:-//Busy Bees Pottery &amp; Arts Studio Springfield - ECPv6.1.2.2//NONSGML v1.0//EN
CALSCALE:GREGORIAN
METHOD:PUBLISH
X-WR-CALNAME:Busy Bees Pottery &amp; Arts Studio Springfield
X-ORIGINAL-URL:https://springfield.busybeesart.com
X-WR-CALDESC:Events for Busy Bees Pottery &amp; Arts Studio Springfield
REFRESH-INTERVAL;VALUE=DURATION:PT1H
X-Robots-Tag:noindex
X-PUBLISHED-TTL:PT1H
BEGIN:VTIMEZONE
TZID:America/Halifax
BEGIN:DAYLIGHT
TZOFFSETFROM:-0400
TZOFFSETTO:-0300
TZNAME:ADT
DTSTART:20220313T060000
END:DAYLIGHT
BEGIN:STANDARD
TZOFFSETFROM:-0300
TZOFFSETTO:-0400
TZNAME:AST
DTSTART:20221106T050000
END:STANDARD
END:VTIMEZONE
BEGIN:VEVENT
DTSTART;TZID=America/Halifax:20220304T180000
DTEND;TZID=America/Halifax:20220304T200000
DTSTAMP:20260421T202420
CREATED:20220107T201645Z
LAST-MODIFIED:20220301T165255Z
UID:10001470-1646416800-1646424000@springfield.busybeesart.com
SUMMARY:Paint & Bingo: Shamrock Candle
DESCRIPTION:Kids join us for a fun night out! We will be making our own St. Patrick’s Day Themed Candles! Afterwards we will play bingo where you can win fun prizes! Each child attending will also be sent home with a small goodie bag. \n*Children must wear their masks the entire event\, their goodies bags will be given to them at the end of the workshop to take home* \n*This is a parent drop off workshop. Parents drop off their children and come back to pick them up once the workshop is over at 8pm. Candles are taken home at conclusion of workshop.
URL:https://springfield.busybeesart.com/event/paint-bingo-shamrock-candle/
LOCATION:Busy Bees Pottery & Arts Studio\, 459 Baltimore Pike\, Springfield\, PA\, 19064\, United States
CATEGORIES:Kids Night Out
ATTACH;FMTTYPE=image/jpeg:https://springfield.busybeesart.com/wp-content/uploads/2022/01/Site-Kids-Night-Out-36.jpg
END:VEVENT
BEGIN:VEVENT
DTSTART;TZID=America/Halifax:20220305T100000
DTEND;TZID=America/Halifax:20220305T110000
DTSTAMP:20260421T202420
CREATED:20220107T201113Z
LAST-MODIFIED:20220107T201113Z
UID:10001469-1646474400-1646478000@springfield.busybeesart.com
SUMMARY:Paint & Storytime: Clover Canvas
DESCRIPTION:LITTLE BEES! Toddlers and Kiddies ages 18 months – 5 years old are welcome to come out and paint this festive Clover Canvas just in time for St. Patrick’s Day. First we will paint then we will have Storytime! \n12×12 Canvas will be taken home at conclusion of workshop. \nCanvas paint is non-toxic but DOES STAIN CLOTHING. Please dress appropriately. \n*For toddlers we recommend at least one adult per child to help with craft.
URL:https://springfield.busybeesart.com/event/paint-storytime-clover-canvas/
LOCATION:Busy Bees Pottery & Arts Studio\, 459 Baltimore Pike\, Springfield\, PA\, 19064\, United States
CATEGORIES:Toddlers and Kiddies
ATTACH;FMTTYPE=image/jpeg:https://springfield.busybeesart.com/wp-content/uploads/2022/01/Site-LITTLE-BEES-SPRINGFIELD-12.jpg
END:VEVENT
BEGIN:VEVENT
DTSTART;TZID=America/Halifax:20220305T183000
DTEND;TZID=America/Halifax:20220305T210000
DTSTAMP:20260421T202420
CREATED:20220222T200616Z
LAST-MODIFIED:20220222T200616Z
UID:10001496-1646505000-1646514000@springfield.busybeesart.com
SUMMARY:Private Event: Deanna Anderson
DESCRIPTION:PRIVATE EVENT: For Deanna Anderson and guests \nCome out to Busy Bees to paint your own Canvas step by step along with one of our instructors!
URL:https://springfield.busybeesart.com/event/private-event-deanna-anderson/
LOCATION:Busy Bees Pottery & Arts Studio\, 459 Baltimore Pike\, Springfield\, PA\, 19064\, United States
CATEGORIES:Private Event
END:VEVENT
BEGIN:VEVENT
DTSTART;TZID=America/Halifax:20220312T190000
DTEND;TZID=America/Halifax:20220312T213000
DTSTAMP:20260421T202420
CREATED:20220107T220359Z
LAST-MODIFIED:20220107T221135Z
UID:10001472-1647111600-1647120600@springfield.busybeesart.com
SUMMARY:Adult BYOB Pottery Event: Paint & Bingo
DESCRIPTION:Feeling Lucky? Come out to Busy Bees for a fun night of pottery painting and Bingo! Prizes will be given out to winners. Make it a girls night or a date night. We will have naughty word stencils and St. Patty’s Day stencils available but you can choose to paint anything you wish! (Wineglasses and Beer Steins will also be available to paint which can be taken home the same night.) \nThis is a BYOB event\, feel free to bring snacks and drinks (remember to bring paper products and cups for whatever you bring). This is an “adults only” pottery night. $20 registration fee goes towards the cost of your project the night of. Project cost depends on what you choose that night. (projects start at $20)
URL:https://springfield.busybeesart.com/event/adult-byob-pottery-event-paint-bingo/
LOCATION:Busy Bees Pottery & Arts Studio\, 459 Baltimore Pike\, Springfield\, PA\, 19064\, United States
CATEGORIES:Adults Only
ATTACH;FMTTYPE=image/jpeg:https://springfield.busybeesart.com/wp-content/uploads/2022/01/Site-Adult-WS-Events-46.jpg
END:VEVENT
BEGIN:VEVENT
DTSTART;TZID=America/Halifax:20220319T183000
DTEND;TZID=America/Halifax:20220319T210000
DTSTAMP:20260421T202420
CREATED:20220303T180852Z
LAST-MODIFIED:20220303T180852Z
UID:10001502-1647714600-1647723600@springfield.busybeesart.com
SUMMARY:Private Party: Phyllis' Sensational 65th Birthday!
DESCRIPTION:PRIVATE EVENT: Family and Friends of Phyllis come out to Busy Bees in celebration of her 65th Birthday! Choose from pottery painting or candle making! Party starts at 6:30pm and ends at 9pm. Please arrive promptly so you have enough time to complete your project and socialize. \n$20 registration fee goes towards the cost of your project the night of. If you you choose a project over $20 you will pay the difference that night. If you choose a project less than $20 no change is given. $20 minimum per person (pieces cannot be combined to make $20) \nPottery pieces will be available for pick up 7-10 days after event. Candles can be taken home the same night.
URL:https://springfield.busybeesart.com/event/private-party-phyllis-sensational-65th-birthday/
LOCATION:Busy Bees Pottery & Arts Studio\, 459 Baltimore Pike\, Springfield\, PA\, 19064\, United States
CATEGORIES:Private Event
ATTACH;FMTTYPE=image/jpeg:https://springfield.busybeesart.com/wp-content/uploads/2022/03/PRIVATE-EVENT-GRAPHICS-9.jpg
END:VEVENT
BEGIN:VEVENT
DTSTART;TZID=America/Halifax:20220325T180000
DTEND;TZID=America/Halifax:20220325T200000
DTSTAMP:20260421T202420
CREATED:20220126T222440Z
LAST-MODIFIED:20220126T225413Z
UID:10001484-1648231200-1648238400@springfield.busybeesart.com
SUMMARY:Kids Paint & Bingo: Spider-Mug
DESCRIPTION:Kids join us for a fun night out! We will be painting this Spider-Mug! Choose which design you want to paint when selecting your ticket. (Spiderman with symbol on back/ Spiderman on front and Spider Gwen (girl) on back / or Spider Gwen (girl) on front and symbol on back). \nAfterwards we will play bingo where you can win fun prizes! Each child attending will also be sent home with a small goodie bag.*This is a parent drop off workshop. Parents drop off their children and come back to pick them up once the workshop is over at 8pm. Project will be available for pick up 7 days after the workshop.
URL:https://springfield.busybeesart.com/event/kids-paint-bingo-spider-mug/
LOCATION:Busy Bees Pottery & Arts Studio\, 459 Baltimore Pike\, Springfield\, PA\, 19064\, United States
CATEGORIES:Kids Night Out
ATTACH;FMTTYPE=image/jpeg:https://springfield.busybeesart.com/wp-content/uploads/2022/01/Site-Kids-Night-Out-38.jpg
END:VEVENT
BEGIN:VEVENT
DTSTART;TZID=America/Halifax:20220325T190000
DTEND;TZID=America/Halifax:20220325T213000
DTSTAMP:20260421T202420
CREATED:20211218T164214Z
LAST-MODIFIED:20211218T164214Z
UID:10001396-1648234800-1648243800@springfield.busybeesart.com
SUMMARY:Private Party: Nicole Wissinger
DESCRIPTION:Join us for a fun night of Wineglass Painting!
URL:https://springfield.busybeesart.com/event/private-party-nicole-wissinger/
LOCATION:Busy Bees Pottery & Arts Studio\, 459 Baltimore Pike\, Springfield\, PA\, 19064\, United States
CATEGORIES:Private Event
END:VEVENT
BEGIN:VEVENT
DTSTART;TZID=America/Halifax:20220327T173000
DTEND;TZID=America/Halifax:20220327T200000
DTSTAMP:20260421T202420
CREATED:20220304T181624Z
LAST-MODIFIED:20220304T181624Z
UID:10001503-1648402200-1648411200@springfield.busybeesart.com
SUMMARY:Private Event: Jennifer Nicholas
DESCRIPTION:PRIVATE EVENT: Choose between pottery painting or glass fusing. \n$20 Registration Fee goes towards the cost of your party the night of the event. If you choose a project over $20 you will pay the difference that night. If you choose a project under $20 no refund is given. We require a minimum of $20 per person.
URL:https://springfield.busybeesart.com/event/private-event-jennifer-nicholas/
LOCATION:Busy Bees Pottery & Arts Studio\, 459 Baltimore Pike\, Springfield\, PA\, 19064\, United States
CATEGORIES:Private Event
END:VEVENT
END:VCALENDAR