BEGIN:VCALENDAR
VERSION:2.0
PRODID:-//Busy Bees Pottery &amp; Arts Studio Springfield - ECPv6.1.2.2//NONSGML v1.0//EN
CALSCALE:GREGORIAN
METHOD:PUBLISH
X-WR-CALNAME:Busy Bees Pottery &amp; Arts Studio Springfield
X-ORIGINAL-URL:https://springfield.busybeesart.com
X-WR-CALDESC:Events for Busy Bees Pottery &amp; Arts Studio Springfield
REFRESH-INTERVAL;VALUE=DURATION:PT1H
X-Robots-Tag:noindex
X-PUBLISHED-TTL:PT1H
BEGIN:VTIMEZONE
TZID:America/Halifax
BEGIN:DAYLIGHT
TZOFFSETFROM:-0400
TZOFFSETTO:-0300
TZNAME:ADT
DTSTART:20220313T060000
END:DAYLIGHT
BEGIN:STANDARD
TZOFFSETFROM:-0300
TZOFFSETTO:-0400
TZNAME:AST
DTSTART:20221106T050000
END:STANDARD
END:VTIMEZONE
BEGIN:VEVENT
DTSTART;TZID=America/Halifax:20220603T180000
DTEND;TZID=America/Halifax:20220603T200000
DTSTAMP:20260421T195022
CREATED:20220426T210917Z
LAST-MODIFIED:20220426T212150Z
UID:10001515-1654279200-1654286400@springfield.busybeesart.com
SUMMARY:Paint & Bingo: Dad-Osaur Mug
DESCRIPTION:Kids join us for a fun night out! We will be painting this Dad-Osaur Mug! This will be ready in time for pick up for Father’s Day! Want a different name? (Mom-Osaur\, Pop-Osaur\, your child’s name (ex: Jake-Osaur) etc.) Just let us know and we will customize yours! After painting we will play bingo where you can win fun prizes. Each child attending will also be sent home with a small goodie bag. \n*This is a parent drop off workshop. Parents drop off their children and come back to pick them up once the workshop is over at 8pm. Project will be available for pick up 7 days after the workshop.
URL:https://springfield.busybeesart.com/event/paint-bingo-dad-osaur-mug/
LOCATION:Busy Bees Pottery & Arts Studio\, 459 Baltimore Pike\, Springfield\, PA\, 19064\, United States
CATEGORIES:Kids Night Out
ATTACH;FMTTYPE=image/jpeg:https://springfield.busybeesart.com/wp-content/uploads/2022/04/Site-Kids-Night-Out-44.jpg
END:VEVENT
BEGIN:VEVENT
DTSTART;TZID=America/Halifax:20220604T100000
DTEND;TZID=America/Halifax:20220604T110000
DTSTAMP:20260421T195022
CREATED:20220426T211610Z
LAST-MODIFIED:20220426T212423Z
UID:10001516-1654336800-1654340400@springfield.busybeesart.com
SUMMARY:Paint & Storytime: Daddy's 'Lil Monster Mug
DESCRIPTION:LITTLE BEES! Toddlers and Kiddies ages 18 months – 5 years old are welcome to come out and paint this Handprint Monster Mug. Choose to have your mug say “Daddy’s ‘lil monster” or something different (Mommy’s ‘lil Monster\, Poppop’s Lil’ Monster etc.) First we will paint then we will have Storytime! \nProject will be available for pick up 7 days after event. In time for Father’s Day This paint is non-toxic and washes out of clothing with just water. *For toddlers we recommend at least one adult per child to help with craft.
URL:https://springfield.busybeesart.com/event/paint-storytime-daddys-lil-monster-mug/
LOCATION:Busy Bees Pottery & Arts Studio\, 459 Baltimore Pike\, Springfield\, PA\, 19064\, United States
CATEGORIES:Toddlers and Kiddies
ATTACH;FMTTYPE=image/jpeg:https://springfield.busybeesart.com/wp-content/uploads/2022/04/Site-LITTLE-BEES-SPRINGFIELD-19.jpg
END:VEVENT
BEGIN:VEVENT
DTSTART;TZID=America/Halifax:20220604T183000
DTEND;TZID=America/Halifax:20220604T210000
DTSTAMP:20260421T195022
CREATED:20220427T194631Z
LAST-MODIFIED:20220427T194631Z
UID:10001519-1654367400-1654376400@springfield.busybeesart.com
SUMMARY:PRIVATE PARTY: Jess Galway
DESCRIPTION:PRIVATE EVENT: Guests of Jess Galway join us for a fun night of wineglass painting! Glasses can be taken home the same night as event. This is a BYOB event\, feel free to bring drinks and snacks to enjoy while painting!
URL:https://springfield.busybeesart.com/event/private-party-jess-galway/
LOCATION:Busy Bees Pottery & Arts Studio\, 459 Baltimore Pike\, Springfield\, PA\, 19064\, United States
CATEGORIES:Private Event
END:VEVENT
BEGIN:VEVENT
DTSTART;TZID=America/Halifax:20220611T190000
DTEND;TZID=America/Halifax:20220611T213000
DTSTAMP:20260421T195022
CREATED:20220426T212950Z
LAST-MODIFIED:20220426T225347Z
UID:10001518-1654974000-1654983000@springfield.busybeesart.com
SUMMARY:Adult BYOB Pottery Event: Paint & Bingo
DESCRIPTION:Come out to Busy Bees for a fun night of pottery painting and Bingo! Prizes will be given out to winners. Make it a girls night or a date night. We will have naughty words & beach themed stencils available but you can choose to paint anything you wish! (Wineglasses and Beer Steins will also be available to paint which can be taken home the same night.) \nThis is a BYOB event\, feel free to bring snacks and drinks (remember to bring paper products and cups for whatever you bring). This is an “adults only” pottery night. $25 registration fee goes towards the cost of your project the night of. Project cost depends on what you choose that night. (If you choose something more than $25 that night you will pay the difference. If you choose something less than $25 no change is given)
URL:https://springfield.busybeesart.com/event/adult-byob-pottery-event-paint-bingo-2/
LOCATION:Busy Bees Pottery & Arts Studio\, 459 Baltimore Pike\, Springfield\, PA\, 19064\, United States
CATEGORIES:Adults Only
ATTACH;FMTTYPE=image/jpeg:https://springfield.busybeesart.com/wp-content/uploads/2022/04/Site-Adult-WS-Events-49.jpg
END:VEVENT
BEGIN:VEVENT
DTSTART;TZID=America/Halifax:20220617T180000
DTEND;TZID=America/Halifax:20220617T200000
DTSTAMP:20260421T195022
CREATED:20220426T211949Z
LAST-MODIFIED:20220426T211949Z
UID:10001517-1655488800-1655496000@springfield.busybeesart.com
SUMMARY:Paint & Bingo: Sunshine & Flipflops Canvas
DESCRIPTION:Kids join us for a fun night out! We will be painting this Summer Flipflop canvas! Choose your own flipflop colors! Afterwards we will play bingo where you can win fun prizes! Each child attending will also be sent home with a small goodie bag. \n*This is a parent drop off workshop. Parents drop off their children and come back to pick them up once the workshop is over at 8pm. Project will be taken home at conclusion of workshop. *Canvas paint stains clothing. Please dress your child appropriately.
URL:https://springfield.busybeesart.com/event/paint-bingo-sunshine-flipflops-canvas/
LOCATION:Busy Bees Pottery & Arts Studio\, 459 Baltimore Pike\, Springfield\, PA\, 19064\, United States
CATEGORIES:Kids Night Out
ATTACH;FMTTYPE=image/jpeg:https://springfield.busybeesart.com/wp-content/uploads/2022/04/Site-Kids-Night-Out-45.jpg
END:VEVENT
BEGIN:VEVENT
DTSTART;TZID=America/Halifax:20220620T090000
DTEND;TZID=America/Halifax:20220624T160000
DTSTAMP:20260421T195022
CREATED:20220114T172743Z
LAST-MODIFIED:20220503T160338Z
UID:10001473-1655715600-1656086400@springfield.busybeesart.com
SUMMARY:Summer Camp: Week 1
DESCRIPTION:Busy Bees is doing something different this year! We have no specific themes scheduled for the weeks of summer camp. Instead\, we will combine all of our favorite themes from the past and explore a little each week. Throughout the summer we will create different types of projects inspired by fuzzy\, furry animals\, colorful rainforests\, sweet summer treats\, mythical creatures and magical fairytales. We will explore down below in the deep blue sea\, up far away in the galaxy and everything wondrous in between. So go on an adventure with us as we travel through our imagination to create fun art and long lasting memories! See below for pricing \n50% Deposit due at time of registration. \nFULL PRICE FOR FULL DAY 9AM-4PM IS $399 (deposit of $199 due at time of registration) \nFULL PRICE FOR HALF DAY (9AM-12PM OR 1PM-4PM) IS $275 (deposit of $137 due at time of registration)
URL:https://springfield.busybeesart.com/event/summer-camp-week-1/
LOCATION:Busy Bees Pottery & Arts Studio\, 459 Baltimore Pike\, Springfield\, PA\, 19064\, United States
CATEGORIES:Summer Art Camp
ATTACH;FMTTYPE=image/jpeg:https://springfield.busybeesart.com/wp-content/uploads/2022/01/CAMP-GRAPHICS-SPRINGFIELD.jpg
END:VEVENT
BEGIN:VEVENT
DTSTART;TZID=America/Halifax:20220623T190000
DTEND;TZID=America/Halifax:20220623T213000
DTSTAMP:20260421T195022
CREATED:20220607T191241Z
LAST-MODIFIED:20220607T191241Z
UID:10001526-1656010800-1656019800@springfield.busybeesart.com
SUMMARY:PRIVATE PARTY: Janice Sheehan
DESCRIPTION:PRIVATE PARTY: This is a BYOB party\, feel free to bring snacks and drinks to enjoy while painting. We require $30 PER PERSON\, which goes towards the cost of your pottery piece. If you choose a piece less than $30 no change is given\, if you choose a piece over $30 you will pay the difference that night. Party starts at 7pm and is over at 9:30pm. Pottery pieces will be ready for pick up 7 days after your event. *Please read our party terms thoroughly before checking out.
URL:https://springfield.busybeesart.com/event/private-party-janice-sheehan/
LOCATION:Busy Bees Pottery & Arts Studio\, 459 Baltimore Pike\, Springfield\, PA\, 19064\, United States
CATEGORIES:Private Event
END:VEVENT
BEGIN:VEVENT
DTSTART;TZID=America/Halifax:20220627T090000
DTEND;TZID=America/Halifax:20220701T160000
DTSTAMP:20260421T195022
CREATED:20220114T175119Z
LAST-MODIFIED:20220617T193631Z
UID:10001474-1656320400-1656691200@springfield.busybeesart.com
SUMMARY:Summer Camp: Week 2
DESCRIPTION:Busy Bees is doing something different this year! We have no specific themes scheduled for the weeks of summer camp. Instead\, we will combine all of our favorite themes from the past and explore a little each week. Throughout the summer we will create different types of projects inspired by fuzzy\, furry animals\, colorful rainforests\, sweet summer treats\, mythical creatures and magical fairytales. We will explore down below in the deep blue sea\, up far away in the galaxy and everything wondrous in between. So go on an adventure with us as we travel through our imagination to create fun art and long lasting memories! See below for pricing \n50% Deposit due at time of registration. \nFULL PRICE FOR FULL DAY 9AM-4PM IS $399 (deposit of $199 due at time of registration) \nFULL PRICE FOR HALF DAY (9AM-12PM OR 1PM-4PM) IS $275 (deposit of $137 due at time of registration)
URL:https://springfield.busybeesart.com/event/summer-camp-week-2/
LOCATION:Busy Bees Pottery & Arts Studio\, 459 Baltimore Pike\, Springfield\, PA\, 19064\, United States
CATEGORIES:Summer Art Camp
ATTACH;FMTTYPE=image/jpeg:https://springfield.busybeesart.com/wp-content/uploads/2022/01/CAMP-GRAPHICS-SPRINGFIELD-1.jpg
END:VEVENT
END:VCALENDAR