BEGIN:VCALENDAR
VERSION:2.0
PRODID:-//Busy Bees Pottery &amp; Arts Studio Springfield - ECPv6.1.2.2//NONSGML v1.0//EN
CALSCALE:GREGORIAN
METHOD:PUBLISH
X-ORIGINAL-URL:https://springfield.busybeesart.com
X-WR-CALDESC:Events for Busy Bees Pottery &amp; Arts Studio Springfield
REFRESH-INTERVAL;VALUE=DURATION:PT1H
X-Robots-Tag:noindex
X-PUBLISHED-TTL:PT1H
BEGIN:VTIMEZONE
TZID:America/Halifax
BEGIN:DAYLIGHT
TZOFFSETFROM:-0400
TZOFFSETTO:-0300
TZNAME:ADT
DTSTART:20260308T060000
END:DAYLIGHT
BEGIN:STANDARD
TZOFFSETFROM:-0300
TZOFFSETTO:-0400
TZNAME:AST
DTSTART:20261101T050000
END:STANDARD
END:VTIMEZONE
BEGIN:VEVENT
DTSTART;TZID=America/Halifax:20260116T180000
DTEND;TZID=America/Halifax:20260116T200000
DTSTAMP:20260421T093330
CREATED:20251217T030412Z
LAST-MODIFIED:20251217T030412Z
UID:10001779-1768586400-1768593600@springfield.busybeesart.com
SUMMARY:Kids' Polar Skater Canvas
DESCRIPTION:Kids join us for a fun night out! We will be painting this wintery Polar Skater canvas! \n*This is a parent drop off workshop. Parents drop off their children and come back to pick them up once the workshop is over at 8pm. Project will be taken home at conclusion of workshop. *Canvas paint stains clothing. Please dress your child appropriately.
URL:https://springfield.busybeesart.com/event/kids-polar-skater-canvas/
LOCATION:Busy Bees Pottery & Arts Studio\, 459 Baltimore Pike\, Springfield\, PA\, 19064\, United States
CATEGORIES:Kids Night Out
ATTACH;FMTTYPE=image/jpeg:https://springfield.busybeesart.com/wp-content/uploads/2025/12/Fall.Giveaway-24.jpg
END:VEVENT
BEGIN:VEVENT
DTSTART;TZID=America/Halifax:20260117T100000
DTEND;TZID=America/Halifax:20260117T110000
DTSTAMP:20260421T093330
CREATED:20251217T030113Z
LAST-MODIFIED:20260114T175946Z
UID:10001778-1768644000-1768647600@springfield.busybeesart.com
SUMMARY:Paint & Storytime: Snowy Cardinal Plate
DESCRIPTION:LITTLE BEES! Toddlers and Kiddies ages 18 months – 5 years old are welcome to come out and paint this snowy cardinal using their handprints. First we will paint then we will have Storytime! \nProject will be available for pick up 10 days after event. This paint is non-toxic and washes out of clothing with just water. *For toddlers we recommend at least one adult per child to help with craft.
URL:https://springfield.busybeesart.com/event/paint-storytime-snowy-cardinal-plate-2/
LOCATION:Busy Bees Pottery & Arts Studio\, 459 Baltimore Pike\, Springfield\, PA\, 19064\, United States
CATEGORIES:Toddlers and Kiddies
ATTACH;FMTTYPE=image/jpeg:https://springfield.busybeesart.com/wp-content/uploads/2025/12/Fall.Giveaway-25.jpg
END:VEVENT
BEGIN:VEVENT
DTSTART;TZID=America/Halifax:20260117T190000
DTEND;TZID=America/Halifax:20260117T210000
DTSTAMP:20260421T093330
CREATED:20251217T031052Z
LAST-MODIFIED:20251231T190258Z
UID:10001780-1768676400-1768683600@springfield.busybeesart.com
SUMMARY:January's Adult BYOB Night
DESCRIPTION:Make it a girls night or a date night. Grab your favorite drinks and snacks and come out to Busy Bees for a fun night of pottery painting. \nThis is an “adults (18+) only” pottery night. Adults 21+ may BYOB. $30 registration fee goes towards the cost of your project the night of (Please read terms fully). Project cost depends on what you choose that night. Pottery available for pick up 10 days after event.
URL:https://springfield.busybeesart.com/event/januarys-adult-byob-night/
LOCATION:Busy Bees Pottery & Arts Studio\, 459 Baltimore Pike\, Springfield\, PA\, 19064\, United States
CATEGORIES:Adults Only
ATTACH;FMTTYPE=image/jpeg:https://springfield.busybeesart.com/wp-content/uploads/2025/12/Fall.Giveaway-21.jpg
END:VEVENT
BEGIN:VEVENT
DTSTART;TZID=America/Halifax:20260119T110000
DTEND;TZID=America/Halifax:20260119T170000
DTSTAMP:20260421T093330
CREATED:20260105T183147Z
LAST-MODIFIED:20260105T183147Z
UID:10001781-1768820400-1768842000@springfield.busybeesart.com
SUMMARY:OPEN Martin Luther King Jr. Day
DESCRIPTION:
URL:https://springfield.busybeesart.com/event/open-martin-luther-king-jr-day/
LOCATION:Busy Bees Pottery & Arts Studio\, 459 Baltimore Pike\, Springfield\, PA\, 19064\, United States
CATEGORIES:Studio Event
ATTACH;FMTTYPE=image/jpeg:https://springfield.busybeesart.com/wp-content/uploads/2026/01/Fall.Giveaway-1.jpg
END:VEVENT
BEGIN:VEVENT
DTSTART;TZID=America/Halifax:20260130T180000
DTEND;TZID=America/Halifax:20260130T200000
DTSTAMP:20260421T093330
CREATED:20260117T205953Z
LAST-MODIFIED:20260128T171906Z
UID:10001784-1769796000-1769803200@springfield.busybeesart.com
SUMMARY:Kids Candy Heart Plate
DESCRIPTION:Kids ages 6-12 are welcome to join us for a fun night out. We will be painting this candy heart cookie plate\, perfect for Valentine’s Day! \n*This is a Parent Drop Off workshop. Drop the kids off with us at 6pm and pick up at 8pm. Projects will be available for pick up 10 days after event.
URL:https://springfield.busybeesart.com/event/kids-candy-heart-plate/
LOCATION:Busy Bees Pottery & Arts Studio\, 459 Baltimore Pike\, Springfield\, PA\, 19064\, United States
CATEGORIES:Kids Night Out
ATTACH;FMTTYPE=image/jpeg:https://springfield.busybeesart.com/wp-content/uploads/2026/01/Fall.Giveaway-1-1.jpg
END:VEVENT
BEGIN:VEVENT
DTSTART;TZID=America/Halifax:20260131T190000
DTEND;TZID=America/Halifax:20260131T210000
DTSTAMP:20260421T093330
CREATED:20251128T190229Z
LAST-MODIFIED:20251128T190229Z
UID:10001777-1769886000-1769893200@springfield.busybeesart.com
SUMMARY:Art of a Showgirl: Pottery Event
DESCRIPTION:Gather your friends for a fun night of pottery painting. Explore the art of a showgirl and create your own masterpiece. Themed stencils will be available. This event is for adults and kids ages 7+ (Adults may BYOB / snacks and drinks allowed). Each guest will also receive a FREE friendship bracelet made special by the Bees. Come dressed up in your best showgirl attire (or t-swift attire) for a chance to win a gift certificate to Busy Bees! \n$30 registration fee goes towards the cost of your project the night of. We require a minimum of $30 spent per attendee. If chosen project is under $30 you do not receive a refund. If chosen project is over $30\, you pay the difference the night of. \n 
URL:https://springfield.busybeesart.com/event/art-of-a-showgirl-pottery-event/
LOCATION:Busy Bees Pottery & Arts Studio\, 459 Baltimore Pike\, Springfield\, PA\, 19064\, United States
CATEGORIES:Studio Event
ATTACH;FMTTYPE=image/jpeg:https://springfield.busybeesart.com/wp-content/uploads/2025/11/Fall.Giveaway-19.jpg
END:VEVENT
END:VCALENDAR